BEGIN:VCALENDAR
VERSION:2.0
PRODID:-//Universidade Federal do Cariri - ECPv4.9.5//NONSGML v1.0//EN
CALSCALE:GREGORIAN
METHOD:PUBLISH
X-WR-CALNAME:Universidade Federal do Cariri
X-ORIGINAL-URL:https://www.ufca.edu.br
X-WR-CALDESC:Eventos para Universidade Federal do Cariri
BEGIN:VTIMEZONE
TZID:"America/Fortaleza"
BEGIN:STANDARD
TZOFFSETFROM:-0300
TZOFFSETTO:-0300
TZNAME:-03
DTSTART:20250101T000000
END:STANDARD
END:VTIMEZONE
BEGIN:VEVENT
DTSTART;TZID="America/Fortaleza":20251110T080000
DTEND;TZID="America/Fortaleza":20251114T220000
DTSTAMP:20260421T013208
CREATED:20251110T161421Z
LAST-MODIFIED:20251110T195624Z
UID:53153-1762761600-1763157600@www.ufca.edu.br
SUMMARY:Terceiro Encontro do Programa Institucional de Bolsas de Iniciação à Docência
DESCRIPTION:Entre os dias 10 e 14 de novembro de 2025\, a Universidade Federal do Cariri (UFCA) vai realizar a etapa científica do terceiro Encontro do Programa Institucional de Bolsas de Iniciação à Docência (Enpibid). A etapa científica do encontro terá palestras\, minicursos e apresentações de trabalhos. \nCom o tema “Ensino\, Pesquisa\, Extensão e Cultura na formação docente”\, o evento ofertará atividades em dois campi da UFCA: Brejo Santo e Juazeiro do Norte\, além de oficinas em escolas públicas da região do Cariri. Algumas das atividades serão on-line. As inscrições podem ser realizadas por meio da Plataforma Even3. O Encontro também é aberto ao público externo. \nEm dezembro\, o evento retornará com a etapa pedagógica\, em que bolsistas do Pibid/UFCA irão ofertar oficinas e minicursos nas escolas em que atuam. \nPROGRAMAÇÃO (etapa científica) \nSegunda-feira\, 10 de novembro \nCredenciamento\nHorário: das 8h30 às 9h30\nLocal: campus Juazeiro do Norte – Auditório Beata Maria de Araújo \nApresentação Cultural e mesa de abertura\nHorário: das 9h30 às 10h20 \nPalestra de abertura: Fazeressaberes na relação Universidade-Escola\nHorário: das 10h20 às 11h30\nConvidada: Maristela Midlej\, doutora em educação pela Universidade Federal da Bahia (UFBA) e docente da Universidade Federal do Sul da Bahia (UFSB) \nEncerramento e avisos\nRepasse da programação\nHorário: das 11h30 às 12h \nCiranda de abertura (LabKariri & Cia.VATA)\nOrganização: Karine Pinheiro de Souza\nHorário: das 13h às 14h30 \nExposição de Banners do Juazeiro\nMandala Pibid/UFCA\nHorário: das 14h30 às 15h30\nLocal: campus Juazeiro do Norte – pátio central\nCoordenação: Francisco José da Silva \nTerça-feira\, 11 de novembro \nApresentação de Banners (Resumo Simples) de Brejo Santo\nLocal: campus Brejo Santo\nHorário: das 8h às 11h \nAtividades: Nossos territórios\, nossos mestres\, nosso cariri (LabKariri)\nCoordenadores: Karine Pinheiro de Sousa\, Francione Charapa Alves e Darliane Silva do Amaral\nLocal: campus Brejo Santo\nHorário: das 8h às 11h \nOficina: Libras Básica I\nLocal: Escola Estadual De Ensino Médio Prefeito Antônio Conserva Feitosa (Juazeiro do Norte)\nHorário: das 8h às 11h \nPalestra: Pedagogias antirracistas para (re)encantar a escola\nMinistrantes: Simony Vieira e Samuel Morais Silva\, da Secretaria Municipal de Educação do Crato\nHorário: das 14h às 16h\nLocal: campus Juazeiro do Norte (bloco E\, piso inferior\, sala E21 – Miniauditório Bárbara de Alencar)\nMediação: Ana Carmita Bezerra de Souza \nOficina de cordel LabKariri\nHorário: das 14h às 16h\nLocal: Escola 18 de maio (Juazeiro do Norte)\nMinistrantes: Josenir Lacerda e Pedro Ernesto \nOficina: Cibercultura para a educação antirracista / Ciberfeministmo em uma perspectiva decolonial\nHorário: das 14h às 16h\nLocal: campus Brejo Santo\nMinistrante: Maristela Midlej \nApresentação de resumos simples (on-line)\nHorário: das 14h às 16h \nMinicurso: Análise Textual Discursiva (ATD) (on-line)\nHorário: das 16h às 18h\nMinistrante: Cícera Maria Mamede \nRoda de conversa com/para supervisores do Pibid (on-line)\nPalestrantes: Francisco Michel da Conceição Araújo (Pibid-Música)\, Sueli Vasconcelos Leite (Pibid-Alfabetização)\, Ana Cleide Batista Ferreira (Pibid-Educação Bilíngue)\nMediador: João Batista Monte de Oliveira\nHorário: das 18h30 às 20h \nQuarta-feira\, 12 de novembro \nMinicurso: Tsoro Yematatu: A matemática e a Sabedoria Africana em ação\nHorário: das 7h às 10h\nLocal: Escola Aristarco Cardoso (Porteiras)\nMinistrantes: Rhuan David Gomes de Sousa\, Victor Kelvio Vieira Rodrigues e Gabriel Ferreira dos Santos \nRoda de conversa: Projeto Mulheres Negras na Literatura (Conceição Evaristo)\nCoordenação: Ana Paula dos Santos e Francisco Raule de Sousa\nHorário: das 10h às 12h\nLocal: campus Brejo Santo (sala 10) \nRoda de conversa: Respeito e valorização das diversidades étnicas e raciais e de gênero (on-line)\nHorário: das 14h às 16h\nMinistrantes: Alan Belizário Cruz (Universidade Regional do Cariri – Urca) e Elaine Jesus (UFCA) \nMediação: Tatiana Santos Andrade \nOficina: Matemática Financeira\nHorário: das 14h às 16h\nLocal: Escola Aristarco Cardoso (Porteiras)\nMinistrantes: Francisco Oliveira dos Santos e Ruandly Fernandes Diniz \nOficina: Sabão caseiro e detergente: os compostos orgânicos que limpam nosso dia a dia\nHorário: das 14h às 16h\nLocal: Escola Aristarco Cardoso (Porteiras)\nMinistrantes: Andreza Martins de Figueiredo\, Elinaldo Gomes de Souza\, Karla Susanna Tavares Grangeiro Belém e Tatiana Santos Andrade \nOficina: : Jogos Didáticos na Aprendizagem de Funções Orgânicas\nHorário: das 14h30 às 16h30\nLocal: Escola Aristarco Cardoso (Porteiras)\nMinistrantes: Cicero Lopes dos Santos\,Maria Aparecida Silva Carvalho \nOficina: A arte dos fractais\nHorário: das 14h às 16h\nLocal: Escola Aristarco Cardoso (Porteiras)\nMinistrantes: Carlos Henrique Teles Bastos e Raissa Chaves de Carvalho \nOficina: Explorando a botânica uma aula interativa (raiz\, caule\, folha)\nHorário: das 14h30 às 16h30\nLocal: Escola Aristarco Cardoso (Porteiras)\nMinistrantes: Heloizy Vitória Amorim Nascimento e Cleiton de Lima Silva \nOficina Libras Básica 2\nHorário: das 16h às 17h\nLocal: Escola Antônio Conserva Feitosa (Juazeiro do Norte)\nMinistrantes: Stefhany da Silva Souza\, Kedyna Maria da Silva \nQuinta-feira\, 13 de novembro \nApresentações de resumos expandidos e artigos completos (on-line)\nHorário: das 8h30 às 12h30 \nMinicurso: Ciência que floresce – criando arte sustentável para um futuro verde\nHorário: das 8h às 10h\nLocal: Escola Professor José Teles de Carvalho (Brejo Santo)\nMinistrantes: Audaniza Pereira Gomes\, Débora de Figueiredo Andrade\, Damires Inácio e Tatiana Santos Andrade \nMinicurso: Arte da Natureza com Mestra Tia Tata\nHorário: das 8h às 9h30\nLocal: Escola Professor José Teles de Carvalho (Brejo Santo)\nMinistrantes: Cicero Tomas Pereira dos Santos\, Dasdores Simone Santos da Silva\, Silmara Oliveira Nunes\, Mestra Tia Tatá\, Damires Inácio e Tatiana Andrade \nMinicurso: Genética e Evolução\nHorário: das 8h às 11h50\nLocal: Escola Professor José Teles de Carvalho (Brejo Santo)\nMinistrantes: João Simião de Araújo Filho\, João Esaú Gomes Souza\, Damires Inácio e Tatiana Andrade  \nMinicurso: Desenhando Funções com o GoeGebra\nHorário: das 7h50 às 9h50\nLocal: Escola Professor José Teles de Carvalho (Brejo Santo)\nMinistrantes: Carlos Emanuel Taveira Silva\, Célia Maria Menezes de Oliveira Bezerra e Maria Sarah da Silva Lima \nMinicurso: Libras Básica 3\nHorário: das 13h às 15h\nLocal: Escola Estadual De Ensino Médio Prefeito Antônio Conserva Feitosa (Juazeiro do Norte)\nMinistrantes: Maria Natalia Alencar\, Meireles Alves Mariano e Sarah Livya De Sousa Linhares \nMinicurso: Noções de lógica para concurso\nHorário: das 14h às 16h\nLocal: campus Brejo Santo\nMinistrante: José Emídio Neto \nPalestra: Educação em Direitos Humanos (on-line)\nHorário: das 19h30 às 20h30\nPalestrante: José Godoy Bezerra de Souza (Procurador da República/MPF)\nMediação: Francisco José da Silva \nOficina: Comitê de ética em pesquisa (Prof-Filo e Profmat) – (on-line)\nHorário: das 18h às 19h\nMinistrante: Francione Charapa Alves \nApresentação de trabalhos (resumos simples\, resumos expandidos e trabalhos completos)\nHorário: das 19h30 às 20h30 \nSexta-feira\, 14 de novembro \nOficina: Da porta para fora – fachadas do sertão 2\nHorário: das 8h30 às 11h30\nLocal: campus Brejo Santo\nMinistrante: Cyda Olímpio \nMinicurso: Aulão para o Exame Nacional do Ensino Médio (Enem)\nHorário: das 9h50 às 11h30\nLocal: Escola Professor José Teles de Carvalho (Brejo Santo)\nMinistrante: João Simião de Araújo Filho\, João Esaú Gomes Souza\, Cicero Tomas Pereira dos Santos\, Dasdores Simone Santos da Silva\, Silmara Oliveira Nunes\, Audaniza Pereira Gomes\, Débora de Figueiredo Andrade\, Damires Inácio e Tatiana Andrade \nMinicurso: Construindo poliedros de Platão com materiais de baixo custo\nHorário: das 9h50 às 11h50\nLocal: Escola Professor José Teles de Carvalho (Brejo Santo)\nMinistrante: Isabele do Nascimento Calixta e Francisco Matheus de Araújo Lima \nEncerramento em Brejo Santo\, com rodada cultural de interlocução entre núcleos\nApresentação com escola de música de Daniel\nLocal: Cine Teatro Prof. Júlio Macedo Costa \nOficina: Audiovisual\nHorário: das 18h30 às 21h30\nLocal: campus Juazeiro do Norte (sala M05s)\nMinistrante: Jeferson Antunes \n  \n  \n  \n  \n  \n  \n  \n
URL:https://www.ufca.edu.br/evento/terceiro-encontro-do-programa-institucional-de-bolsas-de-iniciacao-a-docencia/
LOCATION:Campi Brejo Santo e Juazeiro do Norte
ATTACH;FMTTYPE=image/jpeg:https://www.ufca.edu.br/portal/wp-content/uploads/2025/11/Terceiro-Enpibid.jpg
END:VEVENT
END:VCALENDAR