BEGIN:VCALENDAR
VERSION:2.0
PRODID:-//Universidade Federal do Cariri - ECPv4.9.5//NONSGML v1.0//EN
CALSCALE:GREGORIAN
METHOD:PUBLISH
X-WR-CALNAME:Universidade Federal do Cariri
X-ORIGINAL-URL:https://www.ufca.edu.br
X-WR-CALDESC:Eventos para Universidade Federal do Cariri
BEGIN:VTIMEZONE
TZID:"America/Fortaleza"
BEGIN:STANDARD
TZOFFSETFROM:-0300
TZOFFSETTO:-0300
TZNAME:-03
DTSTART:20250101T000000
END:STANDARD
END:VTIMEZONE
BEGIN:VEVENT
DTSTART;TZID="America/Fortaleza":20250507T080000
DTEND;TZID="America/Fortaleza":20250509T170000
DTSTAMP:20260420T014738
CREATED:20250506T193304Z
LAST-MODIFIED:20250506T193324Z
UID:50243-1746604800-1746810000@www.ufca.edu.br
SUMMARY:Terceira Semana do curso de Pedagogia
DESCRIPTION:Entre os dias 7 e 9 de maio de 2025\, o Instituto de Formação de Educadores da Universidade Federal do Cariri (UFCA) vai realizar a 3ª Semana da Pedagogia. Nesta edição\, o tema do evento será “A formação em Ensino\, Pesquisa\, Extensão e Cultura no curso de pedagogia”. Durante o evento também irá ocorrer o “2º Dia de Brincar – na  Brinquedoteca Paulo Freire”. \nA Semana de Pedagogia ocorre no campus Brejo Santo e é uma organização do IFE/UFCA\, do curso de pedagogia e de discentes de pedagogia da UFCA vinculados ao Programa Institucional de Bolsas de Iniciação à Docência (Pibid).  \nPROGRAMAÇÃO \nQuarta-feira\, 7 de maio \nDas 8h às 8h20 – acolhida\nLocal: miniauditório \nDas 8h20 às 8h30 – Retrospectiva da 1ª e 2ª Semana do curso de pedagogia\nCondução: Karine Pinheiro e Francione Alves \nDas 8h30 às 8h40 – programação cultural: quem acredita sempre alcança\nApresentação: estudante da EEIEF Joaquim Tavares de Luna \nDas 8h40 às 9h – mesa de abertura: representante da direção\, da coordenação\, estudante e secretaria de educação de Brejo Santo \nDas 9h às 9h10 – Passagem da coordenação de Pedagogia \nDas 9h10 às 9h20 – Homenagem aos estudantes e professores premiados na 1ª Semana de Ensino\, Pesquisa\, Extensão e Cultura (Sepec/UFCA). \nDas 9h20 às 9h50 – Abertura: palestra diálogo sobre o tema: a formação em ensino\, pesquisa\, extensão e cultura no curso de pedagogia\nPalestrante – Cícera Sineide\, do departamento de educação da Universidade Regional do Cariri (Urca)\nMediadora: Gercilene Oliveira\, professora de pedagogia da UFCA \nDas 9h50 às 10h20 – Debate \nDas 10h20 às 10h30 – Intervalo \nDas 10h30 às 11h – Apresentação da pesquisa: “Caminho se conhece andando”: narrativas de professoras sobre o ensino com pesquisa nos anos iniciais do ensino fundamental em Brejo Santo\nConvidado: João Batista Monte de Oliveira \nDas 11h às 11h20 – Debate \nDas 11h20 às 11h40 – Informações sobre a programação e encerramento \nDas 14h às 16h – Diálogos sobre pesquisa\, ensino\, cultura e extensão dos projetos do curso de pedagogia\nApresentação: pesquisadores/as\, bolsistas e orientandos/as\nLocal: 7\, 8 e 11 \nQuinta-feira\, 8 de maio \nDas 8h às 8h20 – 1º Dia do Brincar na Brinquedoteca Paulo Freire\nOrganização: Gercilene Oliveira\, Ana Paula dos Santos e Francione Alves \nInstituições que farão parte do 2º Dia do Brincar na EEIEF Joaquim Tavares de Luna (turma do infantil V\, matutino)\nLocal: Sítio Olho D’água – Brejo Santo \nCEI Professora Rosa Roberto (turma do infantil 5\, matutino)\nCondução: turma do 2º semestre e a professora Lívia Andrade de Carvalho Silva\nLocal: área externa do IFE/UFCA \nDas 8h20 às 8h40 – Contação de história “Chapeuzinho Vermelho”\nCondução: turma do 4º semestre\, Darliane Silva do Amaral e Gercilene Alves \nExposição da Cabana Literária\nCondução: discentes do 2º semestre de pedagogia da UFCA\, Francisca Milena\, Jamile Custódio\, Maria Naciso\, Mayara Kárita\nLocal: Miniauditório (sala 10) \nDas 8h40 às 9h – Exposição de objetos de aprendizagem produzidos na disciplina “Tecnologias Educacionais e Práticas Inovadoras”\nCondução: Iracema Pinho e Francisco Raule \nDas 9h às 9h20 – lanche \nDas 9h20 às 10h30 – Letramento Racial na Educação Infantil: contação “As tranças de Bintou”.\nOficina: Estética negra e infância\nCondução: turma do 6º semestre e professora Ana Paula dos Santos\nLocal: miniauditório (sala 10) \n10h30 – Encerramento \nDas 13h30 às 15h30 – Oficina com as formadoras da Secretaria de Educação de Brejo Santo\nTema: “Escovando palavras escritas\, ditas\, inventadas na Educação Infantil: reflexão sobre o ler e escrever”\nCondução: Cristiane Gonçalves de Meneses Quinderé\, Janine Braga Lopes\, Janaina Conceição Cardoso Braga e Nayara Barbosa\nLocal: Miniauditório (sala 10) \nDas 14h às 15h30 – Oficina: Práticas pedagógicas com uso das tecnologias digitais\nCondução: Karine Pinheiro de Souza\nPúblico: estudantes do 5º ano – turno vespertino\nInstituição: EEF João Teles de Carvalho\nLocal: Laboratório de Informática I \nDas 16h às 16h30 – Lançamento de livros\nApresentação: João Bosco D. do Nascimento (Bibliotecário da IFE/UFCA)\nLocal: Biblioteca do IFE \nLivros que serão lançados: \n\nO sonho de voar\, de Veridiane Rosa da Silva;\nLições de Maria\, de Fátima Teles;\nRevista EducAção (turma do mestrado MPEDU/Urca); dos autores Andreina Severo\, Cristiane Gonçalves de Meneses Quinderé\, Carlos Mossmann\, Mestranda Maria Carla da Silva Pereira e José Maria Junior\n\nSexta-feira\, 9 de maio \nDas 8h às 8h30 – Acolhida aos estudantes do scape room\nCondução: Karine Pinheiro de Souza e Grupo de Estudo em Tecnologias Digitais \nDas 8h30 às 9h20 – Atividade Cultural: intercâmbio que transforma – cultura\, conexões e aprendizado do PEG-G.\nPalestra com estudantes internacionais da Universidade Federal do Cariri\, com os discentes Chrilux Demok (Congo); Nataniel Nhanga (Angola); Isaías Fernandes (Cabo Verde); Abiliane do Nascimento (São Tomé e Príncipe). \nCondução: Laura Hévila Inocência Leite\nLocal: Miniauditório (sala 10) \nDas 9h20 às 9h40 – Intervalo \nDas 9h40 às 11h40 – Exposição cultural das obras de Francisco Graciano (mestre Mozinho dos Bonecos)\, Mestre da Cultura de Brejo Santo\nOrganização: Darliane Silva do Amaral e estudantes do 6º semestre\nConvidado: Francisco David dos Santos Júnior (Secretário de Educação de Brejo Santo) \nTema da Fala: O espaço e atuação que os/as novos/as formandos/as do curso de pedagogia têm na Secretaria de Educação Básica de Brejo Santo (Sedub)\nDuração: 20 minutos\nConvidado: Bruno Yacub Sampaio Cabral (Secretário Executivo de Cultura\, Turismo e Eventos de Brejo Santo) \n
URL:https://www.ufca.edu.br/evento/terceira-semana-da-pedagogia/
LOCATION:Campus Brejo Santo\, R. Olegário Emidio de Araujo\, s/n - Centro\, Brejo Santo - CE\, Brejo Santo\, Ceará\, 63260-000\, Brasil
CATEGORIES:Eventos
ATTACH;FMTTYPE=image/jpeg:https://www.ufca.edu.br/portal/wp-content/uploads/2025/05/WhatsApp-Image-2025-05-06-at-12.29.38-e1746559820859.jpeg
END:VEVENT
END:VCALENDAR