BEGIN:VCALENDAR
VERSION:2.0
PRODID:-//Universidade Federal do Cariri - ECPv4.9.5//NONSGML v1.0//EN
CALSCALE:GREGORIAN
METHOD:PUBLISH
X-WR-CALNAME:Universidade Federal do Cariri
X-ORIGINAL-URL:https://www.ufca.edu.br
X-WR-CALDESC:Eventos para Universidade Federal do Cariri
BEGIN:VTIMEZONE
TZID:"America/Fortaleza"
BEGIN:STANDARD
TZOFFSETFROM:-0300
TZOFFSETTO:-0300
TZNAME:-03
DTSTART:20250101T000000
END:STANDARD
END:VTIMEZONE
BEGIN:VEVENT
DTSTART;TZID="America/Fortaleza":20251119T143000
DTEND;TZID="America/Fortaleza":20251119T153000
DTSTAMP:20260421T031321
CREATED:20251105T145720Z
LAST-MODIFIED:20251105T162953Z
UID:53123-1763562600-1763566200@www.ufca.edu.br
SUMMARY:Sustentabilidade Energética no Cariri: Estratégias e Inovação para o Desenvolvimento Regional
DESCRIPTION:No dia 19 de novembro de 2025\, a Universidade Federal do Cariri (UFCA) vai realizar o painel “Sustentabilidade Energética no Cariri: Estratégias e Inovação para o Desenvolvimento Regional”. O evento ocorrerá no campus Juazeiro do Norte (bloco E\, sala E21\, Miniauditório Bárbara de Alencar)\, das 14h às 15h30. \nPodem participar do painel professores\, estudantes (EaD ou presencial)\, técnicos e terceirizados da UFCA\, estudantes e professores de outras instituições\, além de profissionais do mercado ou do serviço público. As inscrições podem ser feitas\, por meio da Plataforma Even3\, até o dia do evento. \nParticiparão do evento o professor da UFCA Domenico Ceglia; o superintendente da Autarquia Municipal de Meio Ambiente (Amaju)\, Ivan Figueiroa; e Henrique Granjeiro\, diretor do Sindicato das Indústrias de Energia e de Serviços do Setor Elétrico do Estado do Ceará (Sindienergia).  \nO painel será mediado por Ingrid Mazza – professora da UFCA e titular da Coordenadoria de Gestão da Sustentabilidade\, da Pró-Reitoria de Planejamento e Orçamento (CGS-Proplan/UFCA). \nEsse evento é organizado pelo Hub de Inovação da UFCA e pela Pró-Reitoria de Pesquisa\, Pós-Graduação e Inovação (PRPI/UFCA)\, por meio da Coordenadoria de Inovação\, em parceria com a Proplan/UFCA. O painel conta ainda com o apoio do Banco do Nordeste\, por meio do Programa de Desenvolvimento Territorial (Prodeter). \n  \n  \n  \n  \n  \n  \n  \n
URL:https://www.ufca.edu.br/evento/sustentabilidade-energetica-no-cariri-estrategias-e-inovacao-para-o-desenvolvimento-regional/
LOCATION:Miniauditório Bárbara de Alencar – Campus Juazeiro do Norte
CATEGORIES:Eventos
ATTACH;FMTTYPE=image/jpeg:https://www.ufca.edu.br/portal/wp-content/uploads/2025/11/Imagem-do-WhatsApp-de-2025-11-04-às-14.00.57_20d5d94c.jpg
END:VEVENT
END:VCALENDAR