BEGIN:VCALENDAR
VERSION:2.0
PRODID:-//Universidade Federal do Cariri - ECPv4.9.5//NONSGML v1.0//EN
CALSCALE:GREGORIAN
METHOD:PUBLISH
X-WR-CALNAME:Universidade Federal do Cariri
X-ORIGINAL-URL:https://www.ufca.edu.br
X-WR-CALDESC:Eventos para Universidade Federal do Cariri
BEGIN:VTIMEZONE
TZID:"America/Fortaleza"
BEGIN:STANDARD
TZOFFSETFROM:-0300
TZOFFSETTO:-0300
TZNAME:-03
DTSTART:20250101T000000
END:STANDARD
END:VTIMEZONE
BEGIN:VEVENT
DTSTART;TZID="America/Fortaleza":20250917T183000
DTEND;TZID="America/Fortaleza":20250919T220000
DTSTAMP:20260420T233435
CREATED:20250917T193027Z
LAST-MODIFIED:20250917T193032Z
UID:52360-1758133800-1758319200@www.ufca.edu.br
SUMMARY:Sétima Semana do Contador
DESCRIPTION:Nos dias 17\, 18 e 19 de setembro de 2025\, a Universidade Federal do Cariri (UFCA) vai realizar a Sétima Semana do Contador – com o tema “Caminhos estratégicos na Contabilidade: da formação acadêmica à atuação profissional”. O evento é promovido pelo bacharelado em ciências contábeis (centro acadêmico\, representantes de classe e coordenação). \nInteressados em participar podem se inscrever\, por meio da Plataforma Even3\, até o último dia do evento. O evento também é aberto ao público externo à universidade.  \nO evento terá em sua programação palestras e minicursos que irão abordar as múltiplas possibilidades de atuação na área contábil\, além de promover reflexões sobre a construção de trajetórias profissionais conscientes e estratégicas. \nProgramação  \nQuarta-feira\, 17 de setembro \nPerspectivas e Desafios da Contabilidade em Diferentes Setores: Construindo Estratégias de Atuação Profissional (mesa-redonda)\nHorário: das 18h30 às 20h\nLocal: campus Juazeiro do Norte (bloco H\, Auditório Beata Maria de Araújo)\nConvidados: Antônio Quirino\, auditor do Cadastro Nacional de Auditores Independentes (Cnai); Bruno Alves\, contador formado pelo Centro Universitário Doutor Leão Sampaio (Unileão); Leandro Saraiva\, doutor em contabilidade pela Universidade Federal da Paraíba (UFPB) \nMediador: Ricardo Aladim\, professor da UFCA \nInovação que Gera Negócios – Como o Marco Legal Impulsiona Parcerias entre Universidades e Empresas (palestra)\nHorário: das 20h às 21h30\nLocal: campus Juazeiro do Norte (bloco H\, Auditório Beata Maria de Araújo)\nConvidados Augusto Cézar Moura Machado\, mestre em administração de Empresas pela Universidade Estadual do Ceará (UFC) \nQuinta-feira\, 18 de setembro \nMinicursos: \nDiscutindo Teoria e Prática: Eu Preciso Pesquisar\, com José Mauro Madeiros Veloso Soares\nHorário: das 18h30 às 21h\nLocal: campus Juazeiro do Norte (bloco M\, subsolo\, sala 5) \nGerenciamento de Resultados para Micro e Pequenas Empresas\, com Antonia Sandra de Oliveira Pinho\nHorário: das 18h30 às 21h\nLocal: campus Juazeiro do Norte (bloco M\, subsolo\, sala 2) \nPlanejando\, Executando e Comunicando os Resultados da Auditoria Governamental\, com Rafael Valério\nHorário: das 18h30 às 21h\nLocal: campus Juazeiro do Norte (bloco M\, subsolo\, sala 3) \nRotinas de Escritório\, com Akylles Cauã Alves Freitas\nHorário: das 18h30 às 21h\nLocal: campus Juazeiro do Norte (bloco M\, subsolo\, sala 4) \nSexta-feira\, 19 de setembro \nTrajetória Profissional – da Academia ao Mundo Corporativo (palestra)\nHorário: das 18h30 às 19h30\nLocal: campus Juazeiro do Norte (bloco H\, Auditório Beata Maria de Araújo)\nConvidado: Victor Ranieri Araujo\, mestre em ciências contábeis pelo Programa Multi-Institucional e Inter-Regional de Pós-Graduação em Ciências Contábeis\, oferecido em parceria por três universidades federais: de Brasília (UnB)\, da Paraíba (UFPB) e do Rio Grande do Norte (UFRN). \nContabilidade: Obrigatoriedade x Fiscalização | A Responsabilidade do Profissional da Contabilidade no Exercício da Sua Profissão (palestra)\nHorário: das 19h30 às 20h30\nLocal: campus Juazeiro do Norte (bloco H\, Auditório Beata Maria de Araújo)\nConvidado: Rodrigo Gomes\, vice-presidente de Fiscalização\, Ética e Disciplina do Conselho Regional de Contabilidade do Ceará (CRC-CE) \nInovação Contábil na Era da Inteligência Artificial: Do Executor ao Pensador Estratégico (palestra)\nHorário: das 20h30 às 21h30\nLocal: campus Juazeiro do Norte (bloco H\, Auditório Beata Maria de Araújo)\nConvidada: Juliana Coelho\, mestra em ciências da educação pela Universidade Tecnológica Intercontinental (Utic)\, no Paraguai. \n  \n  \n
URL:https://www.ufca.edu.br/evento/setima-semana-do-contador/
LOCATION:Campus Juazeiro do Norte
CATEGORIES:Eventos
ATTACH;FMTTYPE=image/png:https://www.ufca.edu.br/portal/wp-content/uploads/2025/09/1000218033.02540dfd6ff8422094cb.png
END:VEVENT
END:VCALENDAR