BEGIN:VCALENDAR
VERSION:2.0
PRODID:-//Universidade Federal do Cariri - ECPv4.9.5//NONSGML v1.0//EN
CALSCALE:GREGORIAN
METHOD:PUBLISH
X-WR-CALNAME:Universidade Federal do Cariri
X-ORIGINAL-URL:https://www.ufca.edu.br
X-WR-CALDESC:Eventos para Universidade Federal do Cariri
BEGIN:VTIMEZONE
TZID:"America/Fortaleza"
BEGIN:STANDARD
TZOFFSETFROM:-0300
TZOFFSETTO:-0300
TZNAME:-03
DTSTART:20250101T000000
END:STANDARD
END:VTIMEZONE
BEGIN:VEVENT
DTSTART;TZID="America/Fortaleza":20250430T140000
DTEND;TZID="America/Fortaleza":20250430T160000
DTSTAMP:20260420T001120
CREATED:20250423T205957Z
LAST-MODIFIED:20250423T210553Z
UID:50094-1746021600-1746028800@www.ufca.edu.br
SUMMARY:Sessão Diálogo - Animais comunitários nos campi da UFCA: o que precisamos saber?
DESCRIPTION:O Centro de Ciências Agrárias e da Biodiversidade da Universidade Federal do Cariri (CCAB/UFCA)\, por meio da Seção de Apoio a Políticas dos Animais\, convida a comunidade acadêmica para o evento “Sessão Diálogo”: um momento de discussão e troca de ideias com o objetivo de promover o entendimento concernente à temática de animais comunitários e assuntos correlacionados. \nNeste primeiro momento\, a Sessão Diálogo terá como tema “Animais Comunitários nos campi da UFCA: o que precisamos saber?”. O evento será realizado no dia 30 de abril de 2025\, das 14h às 16h\, no campus Juazeiro do Norte (Bloco E\, piso inferior\, sala E21\, Miniauditório Bárbara de Alencar).  \nDúvidas e/ou informações pelo e-mail sapac.ccab@ufca.edu.br \n
URL:https://www.ufca.edu.br/evento/sessao-dialogo-animais-comunitarios-nos-campi-da-ufca-o-que-precisamos-saber/
LOCATION:Miniauditório Bárbara de Alencar – Campus Juazeiro do Norte
CATEGORIES:Eventos
ATTACH;FMTTYPE=image/png:https://www.ufca.edu.br/portal/wp-content/uploads/2025/04/SessaoDialogo1-1.png
END:VEVENT
END:VCALENDAR