BEGIN:VCALENDAR
VERSION:2.0
PRODID:-//Universidade Federal do Cariri - ECPv4.9.5//NONSGML v1.0//EN
CALSCALE:GREGORIAN
METHOD:PUBLISH
X-WR-CALNAME:Universidade Federal do Cariri
X-ORIGINAL-URL:https://www.ufca.edu.br
X-WR-CALDESC:Eventos para Universidade Federal do Cariri
BEGIN:VTIMEZONE
TZID:"America/Fortaleza"
BEGIN:STANDARD
TZOFFSETFROM:-0300
TZOFFSETTO:-0300
TZNAME:-03
DTSTART:20230101T000000
END:STANDARD
END:VTIMEZONE
BEGIN:VEVENT
DTSTART;TZID="America/Fortaleza":20230404T183000
DTEND;TZID="America/Fortaleza":20230404T203000
DTSTAMP:20260425T032452
CREATED:20230329T112048Z
LAST-MODIFIED:20230329T112130Z
UID:40967-1680633000-1680640200@www.ufca.edu.br
SUMMARY:Palestra sobre assédio moral e sexual nas organizações
DESCRIPTION:O Centro de Ciências Sociais Aplicadas (CCSA) e o Grupo de Pesquisa em Gestão de Pessoas\, Trabalho e Comportamento Organizacional (Geptco) promovem a palestra “Assédio Moral e Sexual nas Organizações”. O evento ocorrerá no dia 4 de abril de 2023\, das 18h30 às 20h30\, no Miniauditório Bárbara de Alencar\, sala E21\, bloco E\, no campus Juazeiro do Norte. \nA palestra é voltada para estudantes\, docentes e pesquisadores dos cursos de Administração\, Administração Pública\, Ciências Contábeis\, além de qualquer pessoa interessada nos temas abordados. Não é necessário realizar inscrição prévia\, basta comparecer ao local do evento no dia e no horário marcados. \nO objetivo do encontro será discutir as formas de violência no trabalho\, em especial\, os assédios moral e sexual. \nA palestra será ministrada pelo professor Thiago Soares Nunes\, do Programa de Doutorado e Mestrado da Universidade FUMEC. Na última década\, Thiago Nunes tem se dedicado ao tema assédio moral (e temas correlatos)\, sendo autor de diversos artigos publicados em revistas científicas e eventos nacionais e internacionais\, autor de livro e capítulos em livros\, palestrante e organizador de eventos sobre a temática. \n
URL:https://www.ufca.edu.br/evento/palestra-sobre-assedio-moral-e-sexual-nas-organizacoes/
LOCATION:Miniauditório Bárbara de Alencar – Campus Juazeiro do Norte
CATEGORIES:Eventos
ATTACH;FMTTYPE=image/jpeg:https://www.ufca.edu.br/portal/wp-content/uploads/2023/03/palestra-assédio-moral-02_Easy-Resize.com_-e1680088880215.jpg
END:VEVENT
END:VCALENDAR