BEGIN:VCALENDAR
VERSION:2.0
PRODID:-//Universidade Federal do Cariri - ECPv4.9.5//NONSGML v1.0//EN
CALSCALE:GREGORIAN
METHOD:PUBLISH
X-WR-CALNAME:Universidade Federal do Cariri
X-ORIGINAL-URL:https://www.ufca.edu.br
X-WR-CALDESC:Eventos para Universidade Federal do Cariri
BEGIN:VTIMEZONE
TZID:"America/Fortaleza"
BEGIN:STANDARD
TZOFFSETFROM:-0300
TZOFFSETTO:-0300
TZNAME:-03
DTSTART:20250101T000000
END:STANDARD
END:VTIMEZONE
BEGIN:VEVENT
DTSTART;TZID="America/Fortaleza":20250509T080000
DTEND;TZID="America/Fortaleza":20250509T120000
DTSTAMP:20260420T000807
CREATED:20250429T142659Z
LAST-MODIFIED:20250429T142718Z
UID:50159-1746777600-1746792000@www.ufca.edu.br
SUMMARY:Oficina Educativa Ambiental - 1ª edição de 2025
DESCRIPTION:O Projeto “Oficina Educativa Ambiental”\, em parceria com Geopark Araripe Mundial da UNESCO e Universidade Regional do Cariri (Urca)\, irá realizar no dia 9 de maio de 2025\, das 8h às 12h\, sua primeira edição de 2025\, no Geossítio Colina do Horto\, no município de Juazeiro do Norte. \nA “Oficina Educativa Ambiental” está vinculada à Pró-Reitoria de Extensão da Universidade Federal do Cariri (Proex/UFCA) e terá em sua programação uma trilha educativa com coleta de lixo e uma roda de conversa sobre os aspectos geossistêmicos do espaço visitado. \nInteressados poderão se inscrever até 2 de maio de 2025 ou enquanto durarem as 30 vagas disponíveis. Para participar é preciso preencher o formulário de inscrição\, que contém o Termo de Responsabilidade. Após o encerramento das vagas\, será enviado aos inscritos um e-mail com orientações sobre o evento e para que confirmem sua participação. \nNo dia do evento\, o participante deve doar 2 (duas) latas de alumínio (ex.: refrigerante\, leite\, enlatados em geral). As latas de alumínio serão doadas para as Associações de Recicladores que possuem Acordo de Cooperação Técnica com a UFCA. \nO percurso será de 3 km – circular (ida e volta pelo mesmo percurso). A trilha é leve a moderada\, a depender do perfil do participante. Ela apresenta variações no solo\, pequenas subidas e descidas. É indicado ir de tênis com boa aderência\, usar roupas confortáveis e protetor solar. O participante deve levar água e lanche. \nA participação é permitida somente para pessoas a partir de 18 anos e gera certificação para os participantes que comparecerem e preencherem a avaliação do evento. \nA UFCA disponibilizará o ônibus para conduzir os participantes e  um intérprete de Libras para tradução. Os pontos e horários de embarque estão descritos a seguir:  \n\nCampus de Juazeiro do Norte da UFCA\, às 7h15; \nCampus Crajubar da Urca\,  às 7h30.\n\nDúvidas e/ou informações entrar em contato pelo endereço oficinaeducativaambiental.proex@ufca.edu.br ou pelo perfil oficial do projeto no Instagram. \n
URL:https://www.ufca.edu.br/evento/oficina-educativa-ambiental-2/
LOCATION:Juazeiro do Norte-CE\, Juazeiro do Norte\, Ceará
CATEGORIES:Eventos
ATTACH;FMTTYPE=image/jpeg:https://www.ufca.edu.br/portal/wp-content/uploads/2025/04/1ªEd2025.jpg
END:VEVENT
END:VCALENDAR