BEGIN:VCALENDAR
VERSION:2.0
PRODID:-//Universidade Federal do Cariri - ECPv4.9.5//NONSGML v1.0//EN
CALSCALE:GREGORIAN
METHOD:PUBLISH
X-WR-CALNAME:Universidade Federal do Cariri
X-ORIGINAL-URL:https://www.ufca.edu.br
X-WR-CALDESC:Eventos para Universidade Federal do Cariri
BEGIN:VTIMEZONE
TZID:"America/Fortaleza"
BEGIN:STANDARD
TZOFFSETFROM:-0300
TZOFFSETTO:-0300
TZNAME:-03
DTSTART:20190101T000000
END:STANDARD
END:VTIMEZONE
BEGIN:VEVENT
DTSTART;TZID="America/Fortaleza":20191016T190000
DTEND;TZID="America/Fortaleza":20191016T213000
DTSTAMP:20260422T082247
CREATED:20191004T195207Z
LAST-MODIFIED:20191008T173558Z
UID:18929-1571252400-1571261400@www.ufca.edu.br
SUMMARY:Em busca da cidade inovadora\, inclusiva e sustentável: experiências no Cariri cearense
DESCRIPTION:O Laboratório de Estudos Urbanos\, Sustentabilidade e Políticas Públicas (Laurbs) e o Programa Paidéia Cidade Educadora\, por meio da Rede de Cooperação e Estudos em Sustentabilidade\, Inovação e Políticas Públicas (RESIPP)\, integram o Circuito Urbano da ONU Habitat\, no dia 16 de outubro\, com uma mesa redonda “Em busca da cidade inovadora\, inclusiva e sustentável: experiências no Cariri cearense”. A programação contará com a presença da Secretária de Educação de Brejo Santo\, Ana Jaqueline Braga Mendes\, e a arquiteta e ex secretária de Infraestrutura de Juazeiro do Norte\, Gizele Menezes. A atividade também será a abertura da sétima Semana do curso de Administração Pública da UFCA. \n  \n \n
URL:https://www.ufca.edu.br/evento/mesa-redonda-em-busca-da-cidade-inovadora-inclusiva-e-sustentavel-experiencias-no-cariri-cearense/
CATEGORIES:Eventos
ATTACH;FMTTYPE=image/jpeg:https://www.ufca.edu.br/portal/wp-content/uploads/2019/10/WhatsApp-Image-2019-10-04-at-16.48.07.jpeg
END:VEVENT
END:VCALENDAR