BEGIN:VCALENDAR
VERSION:2.0
PRODID:-//Universidade Federal do Cariri - ECPv4.9.5//NONSGML v1.0//EN
CALSCALE:GREGORIAN
METHOD:PUBLISH
X-WR-CALNAME:Universidade Federal do Cariri
X-ORIGINAL-URL:https://www.ufca.edu.br
X-WR-CALDESC:Eventos para Universidade Federal do Cariri
BEGIN:VTIMEZONE
TZID:"America/Fortaleza"
BEGIN:STANDARD
TZOFFSETFROM:-0300
TZOFFSETTO:-0300
TZNAME:-03
DTSTART:20250101T000000
END:STANDARD
END:VTIMEZONE
BEGIN:VEVENT
DTSTART;TZID="America/Fortaleza":20250901T080000
DTEND;TZID="America/Fortaleza":20250901T120000
DTSTAMP:20260420T184722
CREATED:20250821T145548Z
LAST-MODIFIED:20250821T145609Z
UID:51983-1756713600-1756728000@www.ufca.edu.br
SUMMARY:Inscrições para curso de idiomas
DESCRIPTION:Entre 22 de agosto e 1º de setembro\, o programa Idioma sem Fronteiras\, do Ministério da Educação (MEC)\, vai receber inscrições para turmas de cursos de idiomas. As inscrições podem ser realizadas por meio de link específico para cada idioma disponível no Quadro de Vagas. \nA iniciativa contempla\, ao todo\, sete línguas: alemão\, espanhol\, francês\, inglês\, italiano\, japonês e português (o último para estrangeiros). Os cursos de idiomas são gratuitos e as aulas serão on-line. Os interessados devem optar por apenas um dos cursos disponíveis (sob pena de desclassificação). \nA Universidade Federal do Cariri (UFCA) integra a Associação Nacional dos Dirigentes das Instituições Federais de Ensino Superior (Andifes) e\, dessa forma\, membros da instituição estão aptos a participar da seleção\, sendo eles: estudantes da UFCA (graduação e pós-graduação)\, docentes e servidores técnico-administrativos. \nOutras informações sobre os cursos estão disponíveis no edital da Andifes e no Portal da UFCA. \n  \n  \n
URL:https://www.ufca.edu.br/evento/inscricoes-para-curso-de-idiomas/
LOCATION:On-line
ATTACH;FMTTYPE=image/jpeg:https://www.ufca.edu.br/portal/wp-content/uploads/2025/08/idiomas-SITE.jpeg
END:VEVENT
END:VCALENDAR