BEGIN:VCALENDAR
VERSION:2.0
PRODID:-//Universidade Federal do Cariri - ECPv4.9.5//NONSGML v1.0//EN
CALSCALE:GREGORIAN
METHOD:PUBLISH
X-WR-CALNAME:Universidade Federal do Cariri
X-ORIGINAL-URL:https://www.ufca.edu.br
X-WR-CALDESC:Eventos para Universidade Federal do Cariri
BEGIN:VTIMEZONE
TZID:"America/Fortaleza"
BEGIN:STANDARD
TZOFFSETFROM:-0300
TZOFFSETTO:-0300
TZNAME:-03
DTSTART:20250101T000000
END:STANDARD
END:VTIMEZONE
BEGIN:VEVENT
DTSTART;TZID="America/Fortaleza":20250610T080000
DTEND;TZID="America/Fortaleza":20250610T160000
DTSTAMP:20260420T103221
CREATED:20250529T132400Z
LAST-MODIFIED:20250529T132406Z
UID:50779-1749542400-1749571200@www.ufca.edu.br
SUMMARY:Doação de Sangue
DESCRIPTION:A Universidade Federal do Cariri (UFCA) vai realizar no próximo 10 de junho de 2025\, no campus Juazeiro do Norte\, mais uma campanha de doação de sangue. A campanha é uma parceria da UFCA com o Centro de Hematologia e Hemoterapia do Ceará (Hemoce). \nAs doações podem ser realizadas das 8h às 16h. Para efetivar a doação\, os interessados devem apresentar documento oficial com foto\, estar saudáveis\, bem alimentados\, pesar mais de 50 kg e ter entre 16 e 69 anos. Outra indicação importante é evitar alimentação gordurosa nas quatro horas que antecedem a doação. \nOs candidatos à doação de sangue com idade entre 16 e 17 anos devem apresentar o Termo de Consentimento assinado pelo responsável legal\, disponível para download no Portal do Doador. O limite de idade para a primeira doação é de 60 (sessenta) anos\, 11 (onze) meses e 29 (vinte e nove) dias. \n
URL:https://www.ufca.edu.br/evento/doacao-de-sangue-7/
LOCATION:Auditório Beata Maria de Araújo – Campus Juazeiro do Norte da UFCA\, Av. Tenente Raimundo Rocha\, 1639\, Juazeiro do Norte\, Ceará\, 63048080\, Brasil
CATEGORIES:Eventos
ATTACH;FMTTYPE=image/png:https://www.ufca.edu.br/portal/wp-content/uploads/2023/03/doação-de-sangue-destaque-e1678887984277.png
END:VEVENT
END:VCALENDAR