BEGIN:VCALENDAR
VERSION:2.0
PRODID:-//Universidade Federal do Cariri - ECPv4.9.5//NONSGML v1.0//EN
CALSCALE:GREGORIAN
METHOD:PUBLISH
X-WR-CALNAME:Universidade Federal do Cariri
X-ORIGINAL-URL:https://www.ufca.edu.br
X-WR-CALDESC:Eventos para Universidade Federal do Cariri
BEGIN:VTIMEZONE
TZID:"America/Fortaleza"
BEGIN:STANDARD
TZOFFSETFROM:-0300
TZOFFSETTO:-0300
TZNAME:-03
DTSTART:20250101T000000
END:STANDARD
END:VTIMEZONE
BEGIN:VEVENT
DTSTART;TZID="America/Fortaleza":20250428T160000
DTEND;TZID="America/Fortaleza":20250428T203000
DTSTAMP:20260419T203348
CREATED:20250423T202028Z
LAST-MODIFIED:20250423T202149Z
UID:50092-1745856000-1745872200@www.ufca.edu.br
SUMMARY:Doação de Sangue
DESCRIPTION:Na segunda-feira\, 28 de abril de 2025\, a Universidade Federal do Cariri (UFCA) vai realizar mais uma campanha de doação de sangue\, no campus Juazeiro do Norte\, no auditório Beata Maria de Araújo\, das 16h às 20h30. \nDessa vez\, a iniciativa é do projeto de extensão Athena: atlética (grupo de estudantes que promove atividades esportivas\, recreativas e culturais) vinculada ao curso de administração da UFCA. O evento será uma homenagem à estudante Ana Vitória da Silva Gomes\, falecida em 2024. \nPara efetivar a doação\, os interessados devem apresentar documento oficial com foto\, estar saudáveis\, bem alimentados\, pesar mais de 50 kg e ter entre 16 e 69 anos. Outra indicação importante é evitar alimentação gordurosa nas quatro horas que antecedem a doação. \nOs candidatos à doação de sangue com idade entre 16 e 17 anos devem apresentar o Termo de Consentimento assinado pelo responsável legal\, disponível para download no Portal do Doador. O limite de idade para a primeira doação é de 60 (sessenta) anos\, 11 (onze) meses e 29 (vinte e nove) dias. \n
URL:https://www.ufca.edu.br/evento/doacao-de-sangue-6/
LOCATION:Auditório Beata Maria de Araújo – Campus Juazeiro do Norte da UFCA\, Av. Tenente Raimundo Rocha\, 1639\, Juazeiro do Norte\, Ceará\, 63048080\, Brasil
CATEGORIES:Eventos
ATTACH;FMTTYPE=image/png:https://www.ufca.edu.br/portal/wp-content/uploads/2023/03/doação-de-sangue-destaque-e1678887984277.png
END:VEVENT
END:VCALENDAR