BEGIN:VCALENDAR
VERSION:2.0
PRODID:-//Universidade Federal do Cariri - ECPv4.9.5//NONSGML v1.0//EN
CALSCALE:GREGORIAN
METHOD:PUBLISH
X-WR-CALNAME:Universidade Federal do Cariri
X-ORIGINAL-URL:https://www.ufca.edu.br
X-WR-CALDESC:Eventos para Universidade Federal do Cariri
BEGIN:VTIMEZONE
TZID:"America/Fortaleza"
BEGIN:STANDARD
TZOFFSETFROM:-0300
TZOFFSETTO:-0300
TZNAME:-03
DTSTART:20250101T000000
END:STANDARD
END:VTIMEZONE
BEGIN:VEVENT
DTSTART;TZID="America/Fortaleza":20250916T190000
DTEND;TZID="America/Fortaleza":20250917T200000
DTSTAMP:20260420T220321
CREATED:20250908T203823Z
LAST-MODIFIED:20250910T144106Z
UID:52244-1758049200-1758139200@www.ufca.edu.br
SUMMARY:Desmistificando inovação\, propriedade intelectual e empreendedorismo acadêmico
DESCRIPTION:O Hub de Inovação da Universidade Federal do Cariri (UFCA)\, em parceria com a Coordenadoria de Inovação da Pró-Reitoria de Pesquisa\, Pós-Graduação e Inovação (PRPI/UFCA)\, está promovendo uma série de encontros nos campi da UFCA para dialogar sobre “Inovação\, Propriedade Intelectual e Empreendedorismo Acadêmico”. Além da PRPI\, o evento também conta com o apoio da Pró-Reitoria de Extensão (Proex/UFCA). \nA ideia da série de encontros é desmistificar os principais fundamentos e conceitos em torno da inovação\, da propriedade intelectual e do empreendedorismo acadêmico. As inscrições são gratuitas e estão abertas até o dia 17 de setembro. Interessados em participar podem se inscrever por meio da Plataforma Even3.  \nOs próximos encontros estão marcados para os dias 16 e 17 de setembro. No dia 16\, o foco será os estudantes dos cursos de Educação a Distância (EaD) da UFCA. No dia 17\, o encontro será presencial\, no campus Juazeiro do Norte. \nPara os estudantes EaD da UFCA a palestra ocorrerá remotamente. O link da transmissão será enviado para o e-mail dos inscritos\, posteriormente.  \nA palestra será ministrada pelo coordenador de Inovação da UFCA Allysson Allex Araújo. \nProgramação \nTerça-feira\, 16 de setembro\nHorário: das 19h às 20h\nLocal: transmissão on-line (para discentes dos cursos EaD)\nLink para inscrição \nQuarta-feira\, 17 de setembro\nHorário: das 13h às 14h\nLocal: campus Juazeiro do Norte (bloco A\, subsolo\, sala A22)\nLink para inscrição\n \n  \n  \n  \n  \n  \n
URL:https://www.ufca.edu.br/evento/desmistificando-inovacao-propriedade-intelectual-e-empreendedorismo-academico/
ATTACH;FMTTYPE=image/jpeg:https://www.ufca.edu.br/portal/wp-content/uploads/2025/09/WhatsApp-Image-2025-09-08-at-17.00.18.jpeg
END:VEVENT
END:VCALENDAR