BEGIN:VCALENDAR
VERSION:2.0
PRODID:-//Universidade Federal do Cariri - ECPv4.9.5//NONSGML v1.0//EN
CALSCALE:GREGORIAN
METHOD:PUBLISH
X-WR-CALNAME:Universidade Federal do Cariri
X-ORIGINAL-URL:https://www.ufca.edu.br
X-WR-CALDESC:Eventos para Universidade Federal do Cariri
BEGIN:VTIMEZONE
TZID:"America/Fortaleza"
BEGIN:STANDARD
TZOFFSETFROM:-0300
TZOFFSETTO:-0300
TZNAME:-03
DTSTART:20250101T000000
END:STANDARD
END:VTIMEZONE
BEGIN:VEVENT
DTSTART;TZID="America/Fortaleza":20250708T190000
DTEND;TZID="America/Fortaleza":20250708T220000
DTSTAMP:20260420T133648
CREATED:20250701T200541Z
LAST-MODIFIED:20250701T200545Z
UID:51236-1752001200-1752012000@www.ufca.edu.br
SUMMARY:Conversas Filosóficas: Joaquim Alves Ribeiro\, 1º médico brasileiro formado em Harvard
DESCRIPTION:A Universidade Federal do Cariri (UFCA) vai realizar mais uma edição do “Conversas Filosóficas” no próximo dia 8 de julho de 2025\, às 19h\, no campus Juazeiro do Norte (Bloco H\, Auditório Beata Maria de Araújo). O evento é organizado pelos cursos de filosofia da UFCA em parceria com a Pró-Reitoria de Cultura (Procult/UFCA). \nEsta edição do evento terá como tema central a história do médico Joaquim Alves Ribeiro (1830-1875). Natural de Icó\, no Ceará\, Joaquim foi o primeiro brasileiro a se formar em medicina pela Universidade de Harvard\, nos Estados Unidos\, em 1853. O evento é gratuito e não é necessário se inscrever previamente. \nO convidado desta edição será o professor Eduardo Vasconcelos\, da Universidade Estadual de Goiás (UEG). Eduardo é doutor em História pela Universidade Federal do Rio Grande do Sul (UFRGS). O professor da UFCA Francisco José será o mediador da conversa. \nDurante a conferência também haverá o lançamento do livro “A ciência peculiar de Joaquim Alves Ribeiro: Ceará-Harvard-Ceará”\, de autoria do professor Eduardo. \n
URL:https://www.ufca.edu.br/evento/conversas-filosoficas-joaquim-alves-ribeiro-1o-medico-brasileiro-formado-em-harvard/
LOCATION:Auditório Beata Maria de Araújo – Campus Juazeiro do Norte da UFCA\, Av. Tenente Raimundo Rocha\, 1639\, Juazeiro do Norte\, Ceará\, 63048080\, Brasil
CATEGORIES:Eventos
ATTACH;FMTTYPE=image/jpeg:https://www.ufca.edu.br/portal/wp-content/uploads/2025/07/WhatsApp-Image-2025-07-01-at-17.03.34.jpeg
END:VEVENT
END:VCALENDAR