BEGIN:VCALENDAR
VERSION:2.0
PRODID:-//Universidade Federal do Cariri - ECPv4.9.5//NONSGML v1.0//EN
CALSCALE:GREGORIAN
METHOD:PUBLISH
X-WR-CALNAME:Universidade Federal do Cariri
X-ORIGINAL-URL:https://www.ufca.edu.br
X-WR-CALDESC:Eventos para Universidade Federal do Cariri
BEGIN:VTIMEZONE
TZID:"America/Fortaleza"
BEGIN:STANDARD
TZOFFSETFROM:-0300
TZOFFSETTO:-0300
TZNAME:-03
DTSTART:20250101T000000
END:STANDARD
END:VTIMEZONE
BEGIN:VEVENT
DTSTART;TZID="America/Fortaleza":20251009T140000
DTEND;TZID="America/Fortaleza":20251009T160000
DTSTAMP:20260420T205107
CREATED:20250922T144122Z
LAST-MODIFIED:20250922T144201Z
UID:52474-1760018400-1760025600@www.ufca.edu.br
SUMMARY:Ciclo Formativo do Projeto “Mitos\, Contos e Filosofia”
DESCRIPTION:No próximo dia 9 de outubro de 2025\, o projeto “Mitos\, Contos e Filosofia”\, da Universidade Federal do Cariri (UFCA)\, vai realizar mais uma atividade de seu ciclo formativo. Desta vez\, o encontro terá como temática “Vivendo e Aprendendo a Jogar: Editoração de Livros e Periódicos Acadêmicos de Filosofia”. \nEstarão presentes no encontro o professor de filosofia da UFCA\, Maxwell Morais; e Lázaro Galvão – bacharel em biblioteconomia pela UFCA e auxiliar administrativo no Centro de Educação a Distância (Cead/UFCA). \nA atividade será realizada por meio do Google Meet e os interessados podem se inscrever por meio de formulário eletrônico. Ao acessar o formulário\, os interessados devem marcar a opção “Editoração/Mercado Editorial/Produção Editorial e Revisão Editorial”. O link da sala virtual onde ocorrerá o encontro será enviado posteriormente. \nO projeto “Mitos\, Contos e Filosofia” é uma iniciativa da UFCA que\, em 2025\, está vinculado às Pró-Reitorias de Cultura (Procult/UFCA)\, de Graduação (Prograd/UFCA) e de Extensão (Proex/UFCA). \nA iniciativa busca incentivar e promover a preservação da memória local por meio da coleta de oralidades (memórias e registros transmitidos pela fala)\, especialmente em contos\, causos\, mitos e outras narrativas das zonas periféricas e rurais do Cariri. \n  \n  \n  \n
URL:https://www.ufca.edu.br/evento/ciclo-formativo-do-projeto-mitos-contos-e-filosofia-encontro-sobre-editoracao-de-livros-e-periodicos/
LOCATION:Sala Virtual – Google Meet
CATEGORIES:Eventos
ATTACH;FMTTYPE=image/jpeg:https://www.ufca.edu.br/portal/wp-content/uploads/2025/09/WhatsApp-Image-2025-09-19-at-16.29.26.jpeg
END:VEVENT
END:VCALENDAR