BEGIN:VCALENDAR
VERSION:2.0
PRODID:-//Universidade Federal do Cariri - ECPv4.9.5//NONSGML v1.0//EN
CALSCALE:GREGORIAN
METHOD:PUBLISH
X-WR-CALNAME:Universidade Federal do Cariri
X-ORIGINAL-URL:https://www.ufca.edu.br
X-WR-CALDESC:Eventos para Universidade Federal do Cariri
BEGIN:VTIMEZONE
TZID:"America/Fortaleza"
BEGIN:STANDARD
TZOFFSETFROM:-0300
TZOFFSETTO:-0300
TZNAME:-03
DTSTART:20250101T000000
END:STANDARD
END:VTIMEZONE
BEGIN:VEVENT
DTSTART;TZID="America/Fortaleza":20250604T133000
DTEND;TZID="America/Fortaleza":20250604T170000
DTSTAMP:20260422T084551
CREATED:20250603T171231Z
LAST-MODIFIED:20250603T171232Z
UID:50839-1749043800-1749056400@www.ufca.edu.br
SUMMARY:Ciclo de Oficinas de Arteterapia - Memória Corporal através da Dança
DESCRIPTION:A Pró-Reitoria de Assuntos Estudantis (Prae/UFCA)\, por meio da Coordenadoria de Apoio ao Desenvolvimento Discente\, promove nesta quarta-feira\, 4 de junho de 2025\, a partir das 13h30\, o ciclo de oficinas de arteterapia – memória corporal através da dança. A oficina será realizada na sala 102 do bloco K\, no campus Juazeiro do Norte\,  facilitada pela estagiária de psicologia da Prae/UFCA\, Ivyna Maria. \n
URL:https://www.ufca.edu.br/evento/ciclo-de-oficinas-de-arteterapia-memoria-corporal-atraves-da-danca/
LOCATION:Campus Juazeiro do Norte
CATEGORIES:Eventos
ATTACH;FMTTYPE=image/jpeg:https://www.ufca.edu.br/portal/wp-content/uploads/2025/06/arteterapia.jpeg
ORGANIZER;CN="Coordenadoria%20de%20Apoio%20ao%20Desenvolvimento%20Discente%20%28PRAE%2FUFCA%29":MAILTO:apoiodiscente.prae@ufca.edu.br
END:VEVENT
END:VCALENDAR