BEGIN:VCALENDAR
VERSION:2.0
PRODID:-//Universidade Federal do Cariri - ECPv4.9.5//NONSGML v1.0//EN
CALSCALE:GREGORIAN
METHOD:PUBLISH
X-WR-CALNAME:Universidade Federal do Cariri
X-ORIGINAL-URL:https://www.ufca.edu.br
X-WR-CALDESC:Eventos para Universidade Federal do Cariri
BEGIN:VTIMEZONE
TZID:"America/Fortaleza"
BEGIN:STANDARD
TZOFFSETFROM:-0300
TZOFFSETTO:-0300
TZNAME:-03
DTSTART:20250101T000000
END:STANDARD
END:VTIMEZONE
BEGIN:VEVENT
DTSTART;TZID="America/Fortaleza":20250609T080000
DTEND;TZID="America/Fortaleza":20250609T170000
DTSTAMP:20260420T103850
CREATED:20250528T135242Z
LAST-MODIFIED:20250528T135434Z
UID:50739-1749456000-1749488400@www.ufca.edu.br
SUMMARY:Aula Magna do curso de Engenharia de Software
DESCRIPTION:No dia 9 de junho de 2025\, o Centro de Ciências e Tecnologia da Universidade Federal do Cariri (CCT/UFCA) irá realizar a aula inaugural do curso de engenharia de software. O evento ocorrerá no campus Juazeiro do Norte\, no Miniauditório Bárbara de Alencar (bloco E\, piso inferior\, sala E21)\, das 18h às 22h. \nA aula será presencial para os discentes do curso de engenharia de software e os demais interessados poderão participar da aula de forma remota\, por meio de sala virtual na Plataforma Conferência Web RNP. \nO evento terá palestra do professor Marcos Kalinowski\, doutor em engenharia de sistemas e computação pela Universidade Federal do Rio de Janeiro (UFRJ) e membro do Departamento de Informática da Pontifícia Universidade Católica do Rio de Janeiro (PUC-Rio). \nProgramação \nDas 18h às 18h30: Falas do CCT e autoridades \nDas 18h30 às 19h: Fala Coordenação e Professores \nDas 19h às 20h: Palestra com o professor Marcos Kalinowski (participação remota) \nDas 20h às 20h30: Coffee break  \n
URL:https://www.ufca.edu.br/evento/aula-magna-do-curso-de-engenharia-de-software/
LOCATION:Miniauditório Bárbara de Alencar – Campus Juazeiro do Norte
CATEGORIES:Eventos
ATTACH;FMTTYPE=image/png:https://www.ufca.edu.br/portal/wp-content/uploads/2025/05/Post-Instagram-Evento-palestra-com-convidado-roxo-900-x-500-px.png
END:VEVENT
END:VCALENDAR