BEGIN:VCALENDAR
VERSION:2.0
PRODID:-//Universidade Federal do Cariri - ECPv4.9.5//NONSGML v1.0//EN
CALSCALE:GREGORIAN
METHOD:PUBLISH
X-WR-CALNAME:Universidade Federal do Cariri
X-ORIGINAL-URL:https://www.ufca.edu.br
X-WR-CALDESC:Eventos para Universidade Federal do Cariri
BEGIN:VTIMEZONE
TZID:"America/Fortaleza"
BEGIN:STANDARD
TZOFFSETFROM:-0300
TZOFFSETTO:-0300
TZNAME:-03
DTSTART:20250101T000000
END:STANDARD
END:VTIMEZONE
BEGIN:VEVENT
DTSTART;TZID="America/Fortaleza":20250812T183000
DTEND;TZID="America/Fortaleza":20250812T213000
DTSTAMP:20260420T184613
CREATED:20250807T151831Z
LAST-MODIFIED:20250807T153726Z
UID:51768-1755023400-1755034200@www.ufca.edu.br
SUMMARY:Athena Conecta
DESCRIPTION:Na terça-feira\, 12 de agosto de 2025\, a Athena – atlética do curso de administração da Universidade Federal do Cariri (UFCA) – vai realizar a 1ª edição do Athena Conecta: evento voltado à capacitação de futuros gestores na região do Cariri cearense. \nEsta edição do evento irá ocorrer no campus Juazeiro do Norte (Auditório Beata Maria de Araújo\, bloco H)\, a partir das 18h30. \nPara participar\, os interessados devem se inscrever\, por meio de formulário eletrônico\, até este sábado\, 9 de agosto. As vagas são limitadas à capacidade de lotação do auditório. Os participantes do evento irão receber certificação de horas. \nO evento terá como tema “Inteligência Emocional e Liderança: desenvolvendo o novo perfil do profissional de RH”. Esta edição será ministrada por Amanda Bezerra (gerente de RH do grupo Carmela) e Nayara Alves (analista de RH do grupo Carmela). \n
URL:https://www.ufca.edu.br/evento/athena-conecta/
LOCATION:Auditório Beata Maria de Araújo – Campus Juazeiro do Norte da UFCA\, Av. Tenente Raimundo Rocha\, 1639\, Juazeiro do Norte\, Ceará\, 63048080\, Brasil
CATEGORIES:Eventos
ATTACH;FMTTYPE=image/jpeg:https://www.ufca.edu.br/portal/wp-content/uploads/2025/08/CONVITE-ATHENA-CONECTA-1.jpg
END:VEVENT
END:VCALENDAR