BEGIN:VCALENDAR
VERSION:2.0
PRODID:-//Universidade Federal do Cariri - ECPv4.9.5//NONSGML v1.0//EN
CALSCALE:GREGORIAN
METHOD:PUBLISH
X-WR-CALNAME:Universidade Federal do Cariri
X-ORIGINAL-URL:https://www.ufca.edu.br
X-WR-CALDESC:Eventos para Universidade Federal do Cariri
BEGIN:VTIMEZONE
TZID:"America/Fortaleza"
BEGIN:STANDARD
TZOFFSETFROM:-0300
TZOFFSETTO:-0300
TZNAME:-03
DTSTART:20250101T000000
END:STANDARD
END:VTIMEZONE
BEGIN:VEVENT
DTSTART;TZID="America/Fortaleza":20250924T173000
DTEND;TZID="America/Fortaleza":20250924T193000
DTSTAMP:20260420T220236
CREATED:20250828T153114Z
LAST-MODIFIED:20250923T173005Z
UID:52128-1758735000-1758742200@www.ufca.edu.br
SUMMARY:9º Fórum de Saúde Mental no Ensino Superior
DESCRIPTION: A Pró-Reitoria de Assuntos Estudantis (Prae/UFCA)\, por meio da Divisão de Apoio à Saúde Mental do Estudante\, convida toda a comunidade acadêmica para participar do 9º Fórum Itinerante de Saúde Mental no Ensino Superior\, que vai ocorrer entre os dias 3 e 24 de setembro. \nO evento tem como objetivo promover debates sobre a saúde mental no contexto acadêmico. Nesta edição\, com o tema “Vidas Conectadas: a saúde mental entre algoritmos e práticas de cuidado”\, o Fórum propõe uma reflexão sobre os desafios e oportunidades do cuidado à saúde mental em tempos digitais. \nInteressados em participar podem se inscrever por meio da Plataforma Even3. As inscrições seguem até 24 de setembro. Todos os participantes irão receber certificação de horas.  \nConforme a Prae/UFCA\, a participação da comunidade acadêmica fortalece o diálogo sobre a saúde mental no ambiente universitário e contribui para a construção coletiva de práticas de cuidado mais humanas e inclusivas. \nPROGRAMAÇÃO  \nQuarta-feira\, 3 de setembro \nHorário: das 14h às 15h30\nLocal: campus Crato (sala M205)\nConvidada: Heyde Coelho de Brito\, bacharela em psicologia pelo Centro Universitário Dr. Leão Sampaio (Unileão) \nQuarta-feira\, 10 de setembro \nHorário: das 16h às 17h30\nLocal: campus Juazeiro do Norte (bloco M\, sala M03)\nConvidado: Marcos Teles do Nascimento\, mestre em saúde pelo Centro Universitário Dr. Leão Sampaio (Unileão) \nHorário: das 18h às 19h30\nLocal: campus Juazeiro do Norte (bloco K\, primeiro andar\, sala K106)\nConvidado: Cícero Emanuel Dias Ferreira\, pós-graduado em saúde mental e atenção psicossocial pelo Centro Universitário Dr. Leão Sampaio (Unileão) \nQuarta-feira\, 17 de setembro \nPalestra: Vidas Conectadas – o vício em bets e outras dependências tecnológicas\nHorário: das 18h às 19h30\nLocal: campus Barbalha (auditório da Faculdade de Medicina – Famed)\nConvidada: Thaís Lira\, médica psiquiatra e formada em medicina pela Faculdade de Medicina Estácio de Juazeiro do Norte \nQuarta-feira\, 24 de setembro \nHorário: das 17h30 às 19h30\nLocal: campus Brejo Santo (pátio do Instituto de Formação de Educadores – IFE)\nConvidado: Lusmar Roosevelt\, psicólogo da UFCA \n  \n  \n  \n  \n  \n  \n  \n  \n  \n  \n  \n
URL:https://www.ufca.edu.br/evento/9o-forum-de-saude-mental-no-ensino-superior/
LOCATION:Campus Juazeiro do Norte
CATEGORIES:Eventos
ATTACH;FMTTYPE=image/jpeg:https://www.ufca.edu.br/portal/wp-content/uploads/2025/08/WhatsApp-Image-2025-08-28-at-11.18.14.jpeg
END:VEVENT
END:VCALENDAR