BEGIN:VCALENDAR
VERSION:2.0
PRODID:-//Universidade Federal do Cariri - ECPv4.9.5//NONSGML v1.0//EN
CALSCALE:GREGORIAN
METHOD:PUBLISH
X-WR-CALNAME:Universidade Federal do Cariri
X-ORIGINAL-URL:https://www.ufca.edu.br
X-WR-CALDESC:Eventos para Universidade Federal do Cariri
BEGIN:VTIMEZONE
TZID:"America/Fortaleza"
BEGIN:STANDARD
TZOFFSETFROM:-0300
TZOFFSETTO:-0300
TZNAME:-03
DTSTART:20250101T000000
END:STANDARD
END:VTIMEZONE
BEGIN:VEVENT
DTSTART;TZID="America/Fortaleza":20251010T140000
DTEND;TZID="America/Fortaleza":20251010T160000
DTSTAMP:20260420T202529
CREATED:20250813T142938Z
LAST-MODIFIED:20250904T143459Z
UID:51885-1760104800-1760112000@www.ufca.edu.br
SUMMARY:9º Fórum de Qualidade de Vida do Estudante
DESCRIPTION:A Pró-Reitoria de Assuntos Estudantis (Prae/UFCA)\, por meio da Divisão de Atenção à Qualidade de Vida do Estudante\, convida a comunidade acadêmica da Universidade Federal do Cariri (UFCA) a participar do 9º Fórum de Qualidade de Vida do Estudante\, que será realizado entre os dias 15 de agosto e 5 de setembro de 2025. \nO evento tem o objetivo de ampliar espaços de discussão sobre saúde e bem-estar na comunidade acadêmica. Nesta edição\, o tema “Universidade que Cuida: Pequenas pausas\, grandes movimentos. Promoção da saúde funcional e prevenção de dores musculoesqueléticas” oferece momentos de discussão com orientações ergonômicas\, ginástica laboral\, além de atendimentos de curta duração em Fisioterapia\, tais como: liberação miofascial\, ventosaterapia e revitalização facial. \nNão é necessário inscrição prévia para participar das atividades do fórum. \nA realização do evento conta com a parceria entre a Prae/UFCA e o curso de fisioterapia do Centro Universitário Doutor Leão Sampaio. As atividades serão conduzidas por estagiários do curso de fisioterapia\, sob supervisão da professora Tatianny França\, que é docente do curso de fisioterapia da Unileão. \nAs atividades do evento seguem a seguinte programação: \nSexta-feira\, 15 de agosto \nCampus Crato\nHorário: das 14h às 16h30\nLocal: salas M204 e M205 \nSexta-feira\, 22 de agosto \nCampus Juazeiro do Norte\nHorário: das 14h às 16h30\nLocal: salas K05 e k06 \nSexta-feira\, 29 de agosto \nCampus Barbalha\nHorário: das 14h às 16h30\nLocal: salas (primeiro andar) \nSexta-feira\, 10 de outubro [data atualizada] \nCampus Brejo Santo\nHorário: das 14h às 16h\nLocal: sala 10 \n  \n  \n  \n  \n  \n  \n  \n  \n  \n  \n  \n  \n  \n  \n  \n  \n  \n  \n  \n  \n  \n  \n  \n  \n  \n  \n
URL:https://www.ufca.edu.br/evento/9o-forum-de-qualidade-de-vida-do-estudante/
LOCATION:Campus Brejo Santo\, R. Olegário Emidio de Araujo\, s/n - Centro\, Brejo Santo - CE\, Brejo Santo\, Ceará\, 63260-000\, Brasil
CATEGORIES:Eventos
ATTACH;FMTTYPE=image/jpeg:https://www.ufca.edu.br/portal/wp-content/uploads/2025/08/WhatsApp-Image-2025-08-13-at-11.15.05.jpeg
END:VEVENT
END:VCALENDAR