BEGIN:VCALENDAR
VERSION:2.0
PRODID:-//Universidade Federal do Cariri - ECPv4.9.5//NONSGML v1.0//EN
CALSCALE:GREGORIAN
METHOD:PUBLISH
X-WR-CALNAME:Universidade Federal do Cariri
X-ORIGINAL-URL:https://www.ufca.edu.br
X-WR-CALDESC:Eventos para Universidade Federal do Cariri
BEGIN:VTIMEZONE
TZID:"America/Fortaleza"
BEGIN:STANDARD
TZOFFSETFROM:-0300
TZOFFSETTO:-0300
TZNAME:-03
DTSTART:20250101T000000
END:STANDARD
END:VTIMEZONE
BEGIN:VEVENT
DTSTART;TZID="America/Fortaleza":20250925T100000
DTEND;TZID="America/Fortaleza":20250925T120000
DTSTAMP:20260420T233442
CREATED:20250911T144506Z
LAST-MODIFIED:20250911T144741Z
UID:52291-1758794400-1758801600@www.ufca.edu.br
SUMMARY:4º Tech Talks das Federais
DESCRIPTION:No próximo dia 25 de setembro de 2025\, das 10h às 12h\, vai ocorrer a quarta edição do Tech Talks das Federais: série de encontros on-line que aborda temas relevantes da tecnologia com foco no ensino superior. A iniciativa é do Colégio de Gestores de Tecnologia da Informação e Comunicações da Associação Nacional dos Dirigentes das Instituições Federais de Ensino Superior (CGTIC/Andifes) e da Universidade Federal de São Paulo (Unifesp). \nA temática desta edição será “Governança de TI em universidades: alinhando tecnologia e missão acadêmica”. O tema trará reflexões sobre os desafios\, as práticas e os caminhos para aprimorar a gestão estratégica da TI no contexto acadêmico. \nInteressados em participar podem se inscrever gratuitamente no site do evento. O botão de inscrição pode ser localizado no canto inferior direito da tela inicial\, em verde\, com os dizeres “garanta sua vaga”. \nA programação terá o relato “Transformando a Governança de TI: Lições da Reestruturação Organizacional na Unifesp”\, apresentado por Alexsandro Cardoso Carvalho – diretor de Governança e Planejamento de TI da Unifesp.  \nO relato destacará os avanços obtidos por meio da reestruturação organizacional da universidade\, com foco em eficiência\, segurança e inovação nos serviços de TI\, além dos desafios enfrentados e das lições aprendidas no processo. \nNa sequência\, também haverá a palestra “Desafios da Governança de Tecnologia da Informação nas Instituições Federais de Ensino Superior: uma visão do e no Ministério da Educação”. A conversa será conduzida por Marco Fragoso\, subsecretário de Tecnologia da Informação e Comunicação do Ministério da Educação (MEC).  \nA apresentação abordará a construção de políticas públicas\, a implementação de sistemas\, a integração das necessidades das universidades federais e a reestruturação interna da própria governança de TI no MEC. \n  \n  \n
URL:https://www.ufca.edu.br/evento/4a-edicao-do-tech-talks-das-federais/
LOCATION:Evento on-line
ATTACH;FMTTYPE=image/png:https://www.ufca.edu.br/portal/wp-content/uploads/2025/09/6275721252312ed5ad2b32a0ef28ee92ea66c5c8.png
END:VEVENT
END:VCALENDAR