BEGIN:VCALENDAR
VERSION:2.0
PRODID:-//Universidade Federal do Cariri - ECPv4.9.5//NONSGML v1.0//EN
CALSCALE:GREGORIAN
METHOD:PUBLISH
X-WR-CALNAME:Universidade Federal do Cariri
X-ORIGINAL-URL:https://www.ufca.edu.br
X-WR-CALDESC:Eventos para Universidade Federal do Cariri
BEGIN:VTIMEZONE
TZID:"America/Fortaleza"
BEGIN:STANDARD
TZOFFSETFROM:-0300
TZOFFSETTO:-0300
TZNAME:-03
DTSTART:20250101T000000
END:STANDARD
END:VTIMEZONE
BEGIN:VEVENT
DTSTART;TZID="America/Fortaleza":20250331T190000
DTEND;TZID="America/Fortaleza":20250331T220000
DTSTAMP:20260419T203529
CREATED:20250326T130300Z
LAST-MODIFIED:20250326T172432Z
UID:49782-1743447600-1743458400@www.ufca.edu.br
SUMMARY:Conversas Filosóficas - Filósofas que pensam a imagem de sofrimento
DESCRIPTION:Na segunda-feira\, 31 de março de 2025\, o “Conversas Filosóficas”\, projeto de cultura ligado ao curso de filosofia da Universidade Federal do Cariri (UFCA)\, vai realizar mais um encontro. Dessa vez\, o evento ocorre no Miniauditório Bárbara de Alencar\, no campus Juazeiro do Norte (bloco E\, piso inferior\, sala E21)\, a partir das 19h. \nO tema do encontro será “Filósofas que pensam a imagem de sofrimento” e será conduzido pelo professor do curso de jornalismo da UFCA Alexandre Nunes – doutor em Cultura e Sociedade pela Universidade Federal da Bahia (UFBA). A participação na palestra é gratuita e não é necessário inscrição prévia. \nPara discutir a temática do encontro\, o convidado abordará o trabalho de quatro autoras e suas reflexões sobre as imagens de sofrimento. As autoras escolhidas são: Virginia Woolf\, Susan Sontag\, Judith Butler e Angela Davis. A conversa será em torno de obras específicas de cada uma dessas autoras. \nAs obras escolhidas foram:  \n\nVirginia Woolf: Os três Guinéus (1938);\nSusan Sontag: Diante da dor dos outros (2003);\nJudith Butler: Quadros de guerra (2009);\nAngela Davis: A democracia da abolição (2019).\n\n
URL:https://www.ufca.edu.br/evento/49782/
LOCATION:Miniauditório Bárbara de Alencar – Campus Juazeiro do Norte
CATEGORIES:Eventos
ATTACH;FMTTYPE=image/png:https://www.ufca.edu.br/portal/wp-content/uploads/2025/03/Cartaz-1.png2_.png
END:VEVENT
END:VCALENDAR