BEGIN:VCALENDAR
VERSION:2.0
PRODID:-//Universidade Federal do Cariri - ECPv4.9.5//NONSGML v1.0//EN
CALSCALE:GREGORIAN
METHOD:PUBLISH
X-WR-CALNAME:Universidade Federal do Cariri
X-ORIGINAL-URL:https://www.ufca.edu.br
X-WR-CALDESC:Eventos para Universidade Federal do Cariri
BEGIN:VTIMEZONE
TZID:"America/Fortaleza"
BEGIN:STANDARD
TZOFFSETFROM:-0300
TZOFFSETTO:-0300
TZNAME:-03
DTSTART:20250101T000000
END:STANDARD
END:VTIMEZONE
BEGIN:VEVENT
DTSTART;TZID="America/Fortaleza":20250731T100000
DTEND;TZID="America/Fortaleza":20250731T120000
DTSTAMP:20260420T175125
CREATED:20250728T140330Z
LAST-MODIFIED:20250728T140333Z
UID:51665-1753956000-1753963200@www.ufca.edu.br
SUMMARY:3º Tech Talks das Federais
DESCRIPTION:Nesta quinta-feira\, 31 de julho de 2025\, a partir das 10h\, ocorrerá o terceiro “Tech Talks das Federais”: série de encontros on-line que aborda temas relevantes da tecnologia com foco no ensino superior. A iniciativa é do Colégio de Gestores de Tecnologia da Informação e Comunicações da Associação Nacional dos Dirigentes das Instituições Federais de Ensino Superior (CGTIC/Andifes) e da Universidade Federal de São Paulo (Unifesp). \nO tema desta terceira edição da série será “Ameaças digitais: como as universidades estão se preparando (ou não!)”. Esta edição vai destacar os desafios crescentes de cibersegurança enfrentados pelas instituições. Em um cenário de ataques cada vez mais sofisticados\, o evento traz especialistas para discutir a importância de estruturas de proteção digital e estratégias de resposta a incidentes. \nInteressados em participar podem se inscrever gratuitamente no site do evento. O botão de inscrição pode ser localizado no canto inferior direito da tela inicial\, em verde\, com os dizeres “garanta sua vaga”.  \nA programação inclui uma palestra de Italo Valcy\, engenheiro de Redes no projeto AmLight/AMPATH (FIU) e especialista com mais de 15 anos de experiência em redes e segurança da informação\, com o tema “Desafios de Cibersegurança nas universidades federais”. \nNa sequência\, será apresentado um relato técnico por Kleber Mascarenhas\, gestor de Segurança da Informação da Universidade Federal da Bahia (UFBA)\, detalhando o caso real dos ataques aos portais da universidade e as medidas adotadas para contenção e recuperação desses portais. \n
URL:https://www.ufca.edu.br/evento/3o-tech-talks-das-federais/
LOCATION:Online
CATEGORIES:Eventos
ATTACH;FMTTYPE=image/png:https://www.ufca.edu.br/portal/wp-content/uploads/2025/07/101f0bee0aa680ef2a05510bc10ebe5b8711d5b6.png
END:VEVENT
END:VCALENDAR