BEGIN:VCALENDAR
VERSION:2.0
PRODID:-//Universidade Federal do Cariri - ECPv4.9.5//NONSGML v1.0//EN
CALSCALE:GREGORIAN
METHOD:PUBLISH
X-WR-CALNAME:Universidade Federal do Cariri
X-ORIGINAL-URL:https://www.ufca.edu.br
X-WR-CALDESC:Eventos para Universidade Federal do Cariri
BEGIN:VTIMEZONE
TZID:"America/Fortaleza"
BEGIN:STANDARD
TZOFFSETFROM:-0300
TZOFFSETTO:-0300
TZNAME:-03
DTSTART:20250101T000000
END:STANDARD
END:VTIMEZONE
BEGIN:VEVENT
DTSTART;TZID="America/Fortaleza":20250726T100000
DTEND;TZID="America/Fortaleza":20250726T170000
DTSTAMP:20260420T160044
CREATED:20250724T224048Z
LAST-MODIFIED:20250725T134032Z
UID:51585-1753524000-1753549200@www.ufca.edu.br
SUMMARY:1º Seminário Internacional Matrimônios e Patrimônios
DESCRIPTION:Neste sábado\, 26 de julho de 2025\, a Universidade Federal do Cariri (UFCA) vai realizar o primeiro Seminário Internacional Matrimônios e Patrimônios\, das 10h às 17h\, na Aldeia da Luz – Instituto de Permacultura da Caatinga.  \nO instituto está localizado na Rua Maria Conceição de Lima Damasceno\, 740\, Barbalha-CE (Sitio Lagoa). A comunidade universitária da UFCA (interna e externa) pode participar. Interessados em se inscrever ou obter outras informações podem entrar em contato com os organizadores do seminário por meio do (88) 98129-6852 ou do (88) 98806-6292. \nDurante o seminário\, os participantes poderão experienciar trocas\, escutas e reflexões sobre afetos\, saberes e heranças culturais no Cariri cearense.  \nA facilitadora do seminário será a professora e pesquisadora holandesa Ria Lemaire. Ria é professora titular da Universidade de Poitiers (França)\, onde dirige a equipe brasileira do Centro de Estudos Latino-Americanos e coordena o Acervo Raymond Cantel de Literatura de Cordel Brasileira. \nO primeiro Seminário de Internacional Matrimônios e Patrimônios\, além da UFCA\, também é realizado pelo Laboratório de Troca de Afetos (Lata)\, da Aldeia da Luz – Instituto de Permacultura da Caatinga e da Biblioteca Comunitária de Artes e Cultura Gilmar de Carvalho. \nO Lata é um programa da UFCA focado em atividades multidisciplinares que integram ensino\, pesquisa\, extensão e cultura na área de Biblioteconomia. \n
URL:https://www.ufca.edu.br/evento/1o-seminario-internacional-matrimonios-e-patrimonios/
LOCATION:Barbalha-CE
CATEGORIES:Eventos
ATTACH;FMTTYPE=image/jpeg:https://www.ufca.edu.br/portal/wp-content/uploads/2025/07/WhatsApp-Image-2025-07-24-at-17.19.09.jpeg
END:VEVENT
END:VCALENDAR