BEGIN:VCALENDAR
VERSION:2.0
PRODID:-//Universidade Federal do Cariri - ECPv4.9.5//NONSGML v1.0//EN
CALSCALE:GREGORIAN
METHOD:PUBLISH
X-WR-CALNAME:Universidade Federal do Cariri
X-ORIGINAL-URL:https://www.ufca.edu.br
X-WR-CALDESC:Eventos para Universidade Federal do Cariri
BEGIN:VTIMEZONE
TZID:"America/Fortaleza"
BEGIN:STANDARD
TZOFFSETFROM:-0300
TZOFFSETTO:-0300
TZNAME:-03
DTSTART:20250101T000000
END:STANDARD
END:VTIMEZONE
BEGIN:VEVENT
DTSTART;TZID="America/Fortaleza":20250506T190000
DTEND;TZID="America/Fortaleza":20250508T220000
DTSTAMP:20260420T001310
CREATED:20250505T125340Z
LAST-MODIFIED:20250505T125417Z
UID:50202-1746558000-1746741600@www.ufca.edu.br
SUMMARY:1º Seminário do Mestrado em Administração Pública da UFCA (Profiap)
DESCRIPTION:Nos dias 6 e 8 de maio de 2025\, a 1ª turma do Mestrado Profissional em Administração Pública da UFCA (Profiap) irá realizar\, no campus Juazeiro do Norte\, o Primeiro Seminário Profiap\, com o tema “pensar e fazer público: interfaces entre gestão e políticas públicas”. \nO evento ocorre no Auditório Beata Maria de Araújo e no bloco K (salas 106 e 107)\, a partir das 19h. O evento é aberto para estudantes\, docentes\, servidores e colaboradores e também para o público externo à UFCA. \nAs inscrições para interessados em participar vão até quinta-feira\, 8 de maio\, por meio da plataforma Even3. \nNos dois encontros serão abordados temas sobre gestão tributária e orçamentária municipal\, políticas públicas\, controle social e gestão de dados em saúde. \nOs seminários também terão transmissão\, ao vivo\, pelo canal do Profiap no YouTube. \nProgramação \nTerça-feira\, 6 de maio\, a partir das 19h\, no auditório Beata Maria de Araújo \nMesa de abertura com participação dos professores da UFCA: Wendell de Freitas Barbosa (coordenador e professor Profiap)\, Diego Coelho do Nascimento e Francisco Raniere Moreira da Silva (professores do curso). Eles farão uma breve apresentação a respeito do programa\, além de conversar sobre a estrutura curricular e o desenvolvimento de competências esperado. \nPalestra: Gestão Tributária e Orçamentária Municipal – práticas e desafios no planejamento orçamentário e os impactos da Reforma Tributária\nConvidado: Aquiles Soares de Sampaio\, advogado formado pela Universidade Regional do Cariri (Urca) e secretário executivo de Planejamento e Gestão de Barbalha.  \nQuinta-feira\, 8 de maio\, a partir das 19h\, bloco K (salas 106 e 107) \nTema: Tecnologia na Gestão de Dados de Saúde\nConvidada: Melissa Soares Medeiros\, doutora em farmacologia pela Universidade Federal do Ceará (UFC) e coordenadora de telessaúde da Secretaria de Saúde do Estado do Ceará. \nTema: Políticas Públicas\, Controle Social e Participação Ativa\nConvidado: Davi Vieira de Araújo\, psicólogo pela Universidade Federal do Ceará (UFC) e membro do Fórum de Defesa dos Direitos das Crianças e Adolescentes. \n
URL:https://www.ufca.edu.br/evento/1o-seminario-do-mestrado-em-administracao-publica-da-ufca-profiap/
LOCATION:Campus Juazeiro do Norte
CATEGORIES:Eventos
ATTACH;FMTTYPE=image/jpeg:https://www.ufca.edu.br/portal/wp-content/uploads/2025/05/WhatsApp-Image-2025-05-05-at-09.49.57-1.jpeg
END:VEVENT
END:VCALENDAR