BEGIN:VCALENDAR
VERSION:2.0
PRODID:-//Universidade Federal do Cariri - ECPv4.9.5//NONSGML v1.0//EN
CALSCALE:GREGORIAN
METHOD:PUBLISH
X-WR-CALNAME:Universidade Federal do Cariri
X-ORIGINAL-URL:https://www.ufca.edu.br
X-WR-CALDESC:Eventos para Universidade Federal do Cariri
BEGIN:VTIMEZONE
TZID:"America/Fortaleza"
BEGIN:STANDARD
TZOFFSETFROM:-0300
TZOFFSETTO:-0300
TZNAME:-03
DTSTART:20250101T000000
END:STANDARD
END:VTIMEZONE
BEGIN:VEVENT
DTSTART;TZID="America/Fortaleza":20250624T080000
DTEND;TZID="America/Fortaleza":20250627T220000
DTSTAMP:20260420T122502
CREATED:20250624T124300Z
LAST-MODIFIED:20250624T125116Z
UID:51105-1750752000-1751061600@www.ufca.edu.br
SUMMARY:15ª Semana de Filosofia e seu Ensino e 1ª Semana da Pós-Graduação em Filosofia: o que significa pensar?
DESCRIPTION:A partir desta terça-feira\, 24 de junho de 2025\, os cursos de filosofia da Universidade Federal do Cariri (UFCA) irão realizar dois eventos acadêmicos: a décima quinta Semana de Filosofia e seu Ensino e a primeira Semana da Pós-Graduação em Filosofia. Os dois eventos ocorrem de forma simultânea e a programação segue até o dia 27 (sexta-feira). \n Os eventos são voltados para estudantes de graduação e pós-graduação\, professores\, pesquisadores e demais interessados na temática filosófica. As inscrições podem ser feitas até o último dia dos eventos\, por meio da Plataforma Even3. \nOs principais eixos temáticos dos eventos são: \n\nO que significa pensar na tradição filosófica?\nA relação entre pensamento\, linguagem e mundo\nPensamento e subjetividade\nO que é a inteligência: entre mente\, cérebro e algoritmo\nDesafios e Implicações Éticas da Inteligência Artificial\nO Pensamento e o Outro \n\nA conferência de abertura ocorre na noite desta quinta-feira\, 25 de junho. \nPROGRAMAÇÃO \nTerça-feira\, 24 de junho \nApresentação de trabalhos\nLocal: on-line\nHorário: a partir das 8h \nQuarta-feira\, 25 de junho \nMinicurso: Uma breve introdução à Filosofia da biologia – com o professor Jerzy André Brzozowski\, da  Universidade Federal de Santa Catarina (UFSC)\nLocal: Laboratório de Ensino de Filosofia (sala C22)\, campus Juazeiro do Norte\nHorário: das 14h às 17h \nConferência de Abertura: A Tecnologia e o CsO? Só nos resta esperar que não seja pior que o anterior… – com o professor Eladio Constantino Pablo Craia\, da Pontifícia Universidade Católica do Paraná (PUC-PR)\nLocal: Miniauditório Bárbara de Alencar (bloco E\, piso inferior\, sala E21)\, campus Juazeiro do Norte\nHorário: das 19h às 22h \nQuinta-feira\, 26 de junho \nMinicurso: Que medusa somos nós hoje? – com a professora Giovana Carmo Temple\, da Universidade Federal do Recôncavo da Bahia (UFRB)\nLocal: Laboratório de Ensino de Filosofia (sala C22)\, campus Juazeiro do Norte\nHorário: das 14h às 17h \nConferência: Será que realmente conversamos com o Chat GPT? – com o professor Jerzy André Brzozowski\, da  Universidade Federal de Santa Catarina (UFSC)\nLocal: Miniauditório Bárbara de Alencar (bloco E\, piso inferior\, sala E21)\, campus Juazeiro do Norte\nHorário: das 19h às 22h \nSexta-feira\, 27 de junho \nMinicurso: Para uma história antológica da técnica. Heidegger\, Simondon\, Deleuze: a época\, o artefato\, as composições abruptas – com o professor Eladio Constantino Pablo Craia\, da Pontifícia Universidade Católica do Paraná (PUC-PR).\nLocal: Laboratório de Ensino de Filosofia (sala C22)\, campus Juazeiro do Norte\nHorário: das 14h às 17h \nConferência de Encerramento: A menoridade como dispositivo da governamentalidade – com a professora Giovana Carmo Temple\, da Universidade Federal do Recôncavo da Bahia (UFRB)\nLocal: Miniauditório Bárbara de Alencar (bloco E\, piso inferior\, sala E21)\, campus Juazeiro do Norte\nHorário: das 19h às 22h \n
URL:https://www.ufca.edu.br/evento/15a-semana-de-filosofia-e-seu-ensino-e-1a-semana-da-pos-graduacao-em-filosofia-o-que-significa-pensar/
LOCATION:Campus Juazeiro do Norte
CATEGORIES:Eventos
ATTACH;FMTTYPE=image/jpeg:https://www.ufca.edu.br/portal/wp-content/uploads/2025/06/Semana-de-Filosofia.jpeg
END:VEVENT
END:VCALENDAR