BEGIN:VCALENDAR
VERSION:2.0
PRODID:-//Universidade Federal do Cariri - ECPv4.9.5//NONSGML v1.0//EN
CALSCALE:GREGORIAN
METHOD:PUBLISH
X-WR-CALNAME:Universidade Federal do Cariri
X-ORIGINAL-URL:https://www.ufca.edu.br
X-WR-CALDESC:Eventos para Universidade Federal do Cariri
BEGIN:VTIMEZONE
TZID:"America/Fortaleza"
BEGIN:STANDARD
TZOFFSETFROM:-0300
TZOFFSETTO:-0300
TZNAME:-03
DTSTART:20200101T000000
END:STANDARD
END:VTIMEZONE
BEGIN:VEVENT
DTSTART;TZID="America/Fortaleza":20201111T190000
DTEND;TZID="America/Fortaleza":20201111T210000
DTSTAMP:20260419T150749
CREATED:20200901T174528Z
LAST-MODIFIED:20200901T174528Z
UID:29938-1605121200-1605128400@www.ufca.edu.br
SUMMARY:Simpósio de Políticas Urbanas\, Sociais e Ambientais do Cariri - "Desenvolvimento e Meio Ambiente no Brasil e no Cariri"
DESCRIPTION:O Laboratório de Estudos Urbanos\, Políticas Públicas e Sustentabilidade (LAURBS)\, da Universidade Federal do Cariri (UFCA)\, realizará o primeiro Simpósio de Políticas Urbanas\, Sociais e Ambientais do Cariri – SIMURBS com o tema “Políticas Públicas\, meio urbano e desenvolvimento”. \nO evento é uma proposição coletiva que tem como objetivo promover discussões sobre as políticas urbanas\, sociais e ambientais no Cariri cearense de modo a contribuir para o desenvolvimento regional sustentável. \nA I edição ocorrerá virtualmente\, em razão das condições impostas pela pandemia da Covid-19\, e será transmitida no canal do Laurbs no YouTube. A programação será composta por três momentos distintos ao longo dos meses de setembro\, outubro e novembro. Especificamente nos dias 9 de setembro\, 14 de outubro e 11 de novembro de 2020. \nO I SIMURBS está programado para receber o público interessado na temática com ênfase para gestores públicos e gestores sociais\, pesquisadores\, graduandos e pós-graduandos\, professores e estudantes da Educação Básica assim como profissionais das áreas convergentes à Gestão Pública e Social\, Políticas Públicas e Sustentabilidade. \nO acesso à toda programação será gratuito e as inscrições já estão abertas e poderão ser realizadas por meio do site: https://www.even3.com.br/isimurbs2020 com emissão de certificados\, sendo possível também a inscrição por atividade. \n
URL:https://www.ufca.edu.br/evento/simposio-de-politicas-urbanas-sociais-e-ambientais-do-cariri-desenvolvimento-e-meio-ambiente-no-brasil-e-no-cariri/
LOCATION:Online
CATEGORIES:Sustentabilidade
ATTACH;FMTTYPE=image/png:https://www.ufca.edu.br/portal/wp-content/uploads/2020/09/laurbs.png
END:VEVENT
END:VCALENDAR