BEGIN:VCALENDAR
VERSION:2.0
PRODID:-//Universidade Federal do Cariri - ECPv4.9.5//NONSGML v1.0//EN
CALSCALE:GREGORIAN
METHOD:PUBLISH
X-WR-CALNAME:Universidade Federal do Cariri
X-ORIGINAL-URL:https://www.ufca.edu.br
X-WR-CALDESC:Eventos para Universidade Federal do Cariri
BEGIN:VTIMEZONE
TZID:"America/Fortaleza"
BEGIN:STANDARD
TZOFFSETFROM:-0300
TZOFFSETTO:-0300
TZNAME:-03
DTSTART:20200101T000000
END:STANDARD
END:VTIMEZONE
BEGIN:VEVENT
DTSTART;TZID="America/Fortaleza":20201021T140000
DTEND;TZID="America/Fortaleza":20201021T160000
DTSTAMP:20260419T163152
CREATED:20201020T190612Z
LAST-MODIFIED:20201020T190813Z
UID:30565-1603288800-1603296000@www.ufca.edu.br
SUMMARY:Seminários Virtuais Metrópolis\, Cidades e Espaços Urbanos: Uma Perspectiva Ibero-Americana
DESCRIPTION:Os Seminários Virtuais Metrópolis\, Cidades e Espaços Urbanos: Uma Perspectiva Ibero-Americana serão realizados nos dias 23 de setembro\, 21 de outubro e 18 de novembro de 2020. \nTrata-se de um evento que\, além do tema proposto ser de ampla dimensão para as discussões e os debates acadêmicos\, envolve a participação de pesquisadores de Instituições de Ensino Superior do Brasil\, Chile\, México\, Portugal e Espanha\, enriquecendo a troca de conhecimentos com essas essas Instituições. \nOrganizados pelos professores da UFCA\, Francisco Raniere Moreira da Silva e Jeová Torres Silva Júnior\, ambos do Centro de Ciências Sociais Aplicadas (CCSA/UFCA)\, e pelos professores César Nicandro Cruz-Rubio\, da Espanha\, e José Andrés Hernández Bonivento\, do Chile\, as inscrições e informações sobre os seminários podem ser acessadas no site: https://www.eventbrite.com/e/118611451043 \nConfira a programação completa. \n
URL:https://www.ufca.edu.br/evento/seminarios-virtuais-metropolis-cidades-e-espacos-urbanos-uma-perspectiva-ibero-americana-2/
LOCATION:Online
CATEGORIES:Sustentabilidade
ATTACH;FMTTYPE=image/jpeg:https://www.ufca.edu.br/portal/wp-content/uploads/2020/10/https___cdn.evbuc_.com_images_110352281_116732907199_1_original.jpg
END:VEVENT
END:VCALENDAR