BEGIN:VCALENDAR
VERSION:2.0
PRODID:-//Universidade Federal do Cariri - ECPv4.9.5//NONSGML v1.0//EN
CALSCALE:GREGORIAN
METHOD:PUBLISH
X-WR-CALNAME:Universidade Federal do Cariri
X-ORIGINAL-URL:https://www.ufca.edu.br
X-WR-CALDESC:Eventos para Universidade Federal do Cariri
BEGIN:VTIMEZONE
TZID:"America/Fortaleza"
BEGIN:STANDARD
TZOFFSETFROM:-0300
TZOFFSETTO:-0300
TZNAME:-03
DTSTART:20190101T000000
END:STANDARD
END:VTIMEZONE
BEGIN:VEVENT
DTSTART;TZID="America/Fortaleza":20190910T140000
DTEND;TZID="America/Fortaleza":20190910T170000
DTSTAMP:20260422T120823
CREATED:20190905T135904Z
LAST-MODIFIED:20190909T182834Z
UID:16345-1568124000-1568134800@www.ufca.edu.br
SUMMARY:Fórum de Discussão Sobre o Gerenciamento de Resíduos Sólidos da UFCA
DESCRIPTION: \n
URL:https://www.ufca.edu.br/evento/forum-de-discussao-sobre-o-gerenciamento-de-residuos-solidos-da-ufca/
LOCATION:Campus Crato\, R. Ícaro de Sousa Moreira\, 126. Bairro Muriti\, Crato\, Ceará\, Brasil
CATEGORIES:Sustentabilidade
ORGANIZER;CN="Coordenadoria%20de%20Gest%C3%A3o%20da%20Sustentabilidade%20%28CGS-Proplan%2FUFCA%29":MAILTO:sustentabilidade.proplan@ufca.edu.br
END:VEVENT
END:VCALENDAR