BEGIN:VCALENDAR
VERSION:2.0
PRODID:-//Universidade Federal do Cariri - ECPv4.9.5//NONSGML v1.0//EN
CALSCALE:GREGORIAN
METHOD:PUBLISH
X-WR-CALNAME:Universidade Federal do Cariri
X-ORIGINAL-URL:https://www.ufca.edu.br
X-WR-CALDESC:Eventos para Universidade Federal do Cariri
BEGIN:VTIMEZONE
TZID:"America/Fortaleza"
BEGIN:STANDARD
TZOFFSETFROM:-0300
TZOFFSETTO:-0300
TZNAME:-03
DTSTART:20260101T000000
END:STANDARD
END:VTIMEZONE
BEGIN:VEVENT
DTSTART;TZID="America/Fortaleza":20260306T080000
DTEND;TZID="America/Fortaleza":20260327T170000
DTSTAMP:20260419T131817
CREATED:20260302T191415Z
LAST-MODIFIED:20260326T201106Z
UID:54416-1772784000-1774630800@www.ufca.edu.br
SUMMARY:Março das Mulheres
DESCRIPTION:Durante o mês de março de 2026\, a Universidade Federal do Cariri (UFCA) irá realizar o evento “Março das Mulheres”. Com programação alusiva ao Dia Internacional da Mulher\, o evento da UFCA terá atividades nos dias 6\, 9\, 10\, 11\, 12\, 13\, 17\, 18 e 27.  \nTodos os campi da instituição vão receber ações do evento\, que é organizado por diversos setores da UFCA. Entre as atividades\, a programação ofertará palestras\, rodas de conversa\, oficinas e atividades ao ar livre. \nO “Março das Mulheres” será aberto para todos os públicos\, sejam eles internos ou externos à UFCA – sem a necessidade de inscrição prévia e com certificação de horas para os participantes.  \nA programação começa no dia 6 de março\, a partir das 8h\, no campus Barbalha – onde a instituição mantém a Faculdade de Medicina (Famed/UFCA). Durante esse momento\, estudantes do curso de medicina irão ofertar uma atividade relacionada à prevenção de Infecções Sexualmente Transmissíveis (ISTs). \nPROGRAMAÇÃO \nPROGRAMAÇÃO – MARÇO DAS MULHERES \nCampus Barbalha \nSexta-feira\, 6 de março \nAção de prevenção de infecções sexualmente transmissíveis\nHorário: das 8h às 10h  \nPalestra – A importância do cuidado com o assoalho pélvico para a qualidade de vida das mulheres\nHorário: das 10h às 12h\nLocal: sala de videoconferência\nPalestrante: Priscila Angelim (fisioterapeuta) \nCampus Crato \nSegunda-feira\, 9 de março \nMesa de abertura com representantes da gestão e da comunidade acadêmica\nHorário: das 13h às 14h\nLocal: sala M205 \nPalestra – Violência contra a mulher no ambiente digital\nHorário: das 14h às 15h30\nLocal: sala M205\nPalestrante: Lívia Palhano Cruz Santana\, advogada e conselheira da Ordem dos Advogados do Brasil (OAB) em Juazeiro do Norte \nTerça-feira\, 10 de março \nApresentação – Mulheres que mudaram o mundo\nHorário: das 13h às 14h\nLocal: sala de estudos externa da biblioteca\nResponsáveis: PET-Agronomia e o projeto “Elas na Ciência” \nOficina – Cuidados com os cabelos\nHorário: das 14h às 15h\nLocal: M205\nConvidado: Heduardo hair\, artista e cabeleireiro \nQuarta-feira\, 11 de março \nDebate – Representatividade e Diversidade Feminina na Comunidade LGBTQIAPN+\nHorário: das 13h às 14h\nLocal: sala M205\nConvidada: Escritora e produtora cultural Estrela do Sul \nSpa para meninas e mulheres\nHorário: das 14h às 16h\nLocal: hall de entrada da biblioteca\nConvidado: Grupo Casa de Mãe \nQuinta-feira\, 12 de março \nVivência – Acolher a menina\, habitar a mulher\nHorário: das 9h às 10h30\nLocal: sala M205\nConvidada: Heyde Brito\, psicóloga \nRoda de conversa – Empoderamento feminino negro\nHorário: das 13h às 15h30\nLocal: sala M205\nConvidadas: Patrícia Silva (jornalista da TV Verdes Mares) e mulheres do Grupo de Valorização Negra do Cariri (Grunec) \nSexta-feira\, 13 de março \nDia D do Esporte\nHorário: das 8h às 12h\nConcentração: quadra do CCAB\nConvidado: Sérgio Vasconcelos (Procult/UFCA) \nCampanha de adoção – parceira com os projetos “Cariri Protetores” e “UFCão”\nHorário: das 8h às 12h\nLocal: quadra do CCAB \nCampus Brejo Santo \nTerça-feira\, 17 de março \nPalestra – Do lar à rua: as múltiplas faces da violência\nHorário: a partir das 17h30\nLocal: pátio do campus Brejo Santo\nPalestrantes: Lara Souza (advogada especialista em direito da mulher e presidente da Comissão da Mulher) e Andressa Linhares (especialista em direito penal) \nQuarta-feira\, 18 de março \nAção – Dia de cuidado e de bem estar\nHorário: das 8h às 11h e das 14h às 17h\nLocal: Escola Balbina Viana Arrais – sala do curso técnico de estética \nSerão ofertados os seguintes serviços:  \nMassagem/ventosaterapia;\nDrenagem linfática;\nRevitalização da face;\nHidratação capilar;\nEscova;\nPrancha;\nDesign de sobrancelhas;\nHidratação labial. \nCampus Juazeiro do Norte \nSexta-feira\, 27 de março \nAção – Banco Vermelho\nHorário: a partir das 13h30\nLocal: pátio do campus Juazeiro do Norte \nPalestra – Gerenciamento do tempo\nHorário: a partir das 14h\nLocal: pátio do campus Juazeiro do Norte\nPalestrante: Mirna Fontenele \nLanche coletivo\nHorário: a partir das 14h40\nLocal: pátio do campus Juazeiro do Norte \nBingo\nHorário: a partir das 15h20\nLocal: pátio do campus Juazeiro do Norte \nApresentação Musical – “Papo musical canta Clara Nunes” (Pocket show e brindes)\nHorário: a partir das 16h30\nLocal: pátio do campus Juazeiro do Norte\n \nServiço \nPró-Reitoria de Cultura\nprocult@ufca.edu.br \n  \n  \n  \n  \n
URL:https://www.ufca.edu.br/evento/marco-das-mulheres/
LOCATION:Todos os campi da UFCA
CATEGORIES:Eventos
ATTACH;FMTTYPE=image/jpeg:https://www.ufca.edu.br/portal/wp-content/uploads/2026/03/WhatsApp-Image-2026-02-27-at-12.18.22.jpeg
END:VEVENT
BEGIN:VEVENT
DTSTART;TZID="America/Fortaleza":20260310T190000
DTEND;TZID="America/Fortaleza":20260310T210000
DTSTAMP:20260419T131817
CREATED:20260310T184552Z
LAST-MODIFIED:20260310T184552Z
UID:54539-1773169200-1773176400@www.ufca.edu.br
SUMMARY:Aprimora Rede+
DESCRIPTION:A Universidade Federal do Cariri (UFCA) será sede\, no dia 10 de março de 2026\, do evento de lançamento do Núcleo de Apoio às Organizações da Sociedade Civil de Assistência Social (NOSCas): projeto-piloto do Programa Nacional de Articulação e Fortalecimento da Rede Socioassistencial do SUAS (Aprimora Rede+)\, do Ministério do Desenvolvimento e Assistência Social\, Família e Combate à Fome (MDS). \nO evento será realizado no campus Juazeiro do Norte e contará com a participação de integrantes da UFCA\, de representantes do MDS\, da Superintendência do Desenvolvimento do Nordeste (Sudene) e dos Conselhos de Assistência Social dos municípios da região do Cariri. \nPROGRAMAÇÃO \nTerça-feira\, 10 de março \nCredenciamento e abertura cultural\nHorário: às 19h \nMesa de honra com autoridades institucionais\nHorário: às 19h30\nConvidados: Iri Sandro Pampolha Lima (Pró-Reitor de Pesquisa\, Pós-Graduação e Inovação da UFCA)\, Antônio Gerson Bezerra de Morais (Assessor Especial da Reitoria/UFCA)\, Antônio Nyck Wállace Tavares Freire (Conselho de Assistência Social de Nova Olinda)\, Maria Eliane Cidade Werton (Secretária de Assistência Social de Santana do Cariri)\, Leandro de Oliveira Nardi (Ministério de Desenvolvimento e Assistência Social\, Família e Combate à Fome)\, Vera Lúcia Batista da Silva Assunção (Superintendência do Desenvolvimento do Nordeste)\, Eduardo Vivian da Cunha (Projeto NOSCas Cariri). \nApresentação do projeto pelo Ministério de Desenvolvimento e Assistência Social\, Família e Combate à Fome (MDS)\nHorário: às 20h\nConvidado: Leandro de Oliveira Nardi (MDS) \nLocal: campus Juazeiro do Norte\, bloco H\, Auditório Beata Maria de Araújo \n
URL:https://www.ufca.edu.br/evento/aprimora-rede/
LOCATION:Campus Juazeiro do Norte
CATEGORIES:Eventos
ATTACH;FMTTYPE=image/jpeg:https://www.ufca.edu.br/portal/wp-content/uploads/2026/03/WhatsApp-Image-2026-03-10-at-15.00.12.jpeg
END:VEVENT
END:VCALENDAR