BEGIN:VCALENDAR
VERSION:2.0
PRODID:-//Universidade Federal do Cariri - ECPv4.9.5//NONSGML v1.0//EN
CALSCALE:GREGORIAN
METHOD:PUBLISH
X-WR-CALNAME:Universidade Federal do Cariri
X-ORIGINAL-URL:https://www.ufca.edu.br
X-WR-CALDESC:Eventos para Universidade Federal do Cariri
BEGIN:VTIMEZONE
TZID:"America/Fortaleza"
BEGIN:STANDARD
TZOFFSETFROM:-0300
TZOFFSETTO:-0300
TZNAME:-03
DTSTART:20250101T000000
END:STANDARD
END:VTIMEZONE
BEGIN:VEVENT
DTSTART;TZID="America/Fortaleza":20250915T080000
DTEND;TZID="America/Fortaleza":20250919T170000
DTSTAMP:20260421T201148
CREATED:20250905T180331Z
LAST-MODIFIED:20250908T141305Z
UID:52234-1757923200-1758301200@www.ufca.edu.br
SUMMARY:Terceiro Movimento Freireano
DESCRIPTION:Entre os dias 15 e 19 de setembro de 2025\, o Instituto de Formação de Educadores da Universidade Federal do Cariri (IFE/UFCA)\, por meio do curso de pedagogia\, realizará o 3º Movimento Freireano. O evento faz alusão ao aniversário de nascimento de Paulo Freire (1921–1977)\, patrono da educação brasileira. \nNo evento\, professores e estudantes da UFCA irão realizar diversas atividades extensionistas nos campi Brejo Santo e Juazeiro do Norte. O evento também terá a participação de docentes e alunos das escolas de educação básica da região. \nEntre os destaques\, a programação do evento terá: \n\nAtividades com Mestres da Cultura Popular do Cariri (Mestre Elias – Pife; Mestre Francisco Graciano (Mozim) – Artes Visuais);\nAula aberta destinada à comunidade acadêmica\, aos profissionais e técnicos da educação básica e superior;\nAtividades com crianças da Educação Infantil na Brinquedoteca Paulo Freire;\nAtividades com estudantes dos Anos Iniciais do Ensino Fundamental;\nPainéis temáticos sobre os conceitos centrais da obra de Paulo Freire;\nPainéis sobre temas ligados à cultura do Cariri;\nExposição de atividades desenvolvidas em sala de aula nas disciplinas do Curso de Pedagogia.\n\nPROGRAMAÇÃO \nSegunda-feira\, 15 de setembro \nMesa de abertura do III Movimento Freireano\nHorário: das 8h às 8h30\nLocal: campus Brejo Santo \nAula aberta com o Mestre Elias (Brejo Santo-CE) e apresentação da banda Cabaçal de Mestre Elias de Rosinha \nHorário: das 8h30 às 10h30\nLocal: pátio do campus Brejo Santo \nTerça-feira\, 16 de setembro \nExposição Cultural: Mestre da Cultura Francisco Graciano (em parceria com o projeto de extensão LabKariri) e mesa de abertura da exposição\nHorário: das 10h às 15h\nLocal: pátio do campus Juazeiro do Norte (entre os blocos H e I) \nApresentação cultural da escola Escola Cívico-Militar Edward Teixeira Férrer\, de Juazeiro do Norte\nHorário: das 10h às 15h\nLocal: pátio do campus Juazeiro do Norte \nOficina de releitura das obras do Mestre da Cultura Francisco Graciano em parceria com o projeto de extensão LabKariri\nHorário: das 12h às 15h\nLocal: Escola de Ensino Fundamental em Tempo Integral Padre Pedro Inácio Ribeiro\, em Brejo Santo  \nQuarta-feira\, 17 de setembro \nAtividade em alusão ao Setembro Surdo\nHorário: das 8h às 16h\nLocal: campus Brejo Santo \nQuinta-feira\, 18 de setembro \nVamos conhecer o menino Freire? Projeto da  Brinquedoteca Paulo Freire com a Creche Proinfância Profª Maria Leoneide Leandro Lima/3º semestre de Pedagogia\nHorário: das 8h às 12h\nLocal: brinquedoteca\, sala 10 e pátio do campus Brejo Santo \nAtividade em parceria com o Projeto Mulheres Negras e leitura na biblioteca: “Paulo me deu uma linguagem política – intimidade\, doçura e solidariedade entre bell hooks e Paulo Freire”\nHorário: das 13h às 15h\nLocal: campus Brejo Santo \nPalestra: Práticas sociais e cidadania\, em parceria com o Pibid/UFCA [on-line]\nPalestrante: Marlene Rios Melo\, da Universidade Federal do Rio Grande (FURG)\nHorário: das 16h às 18h  \nSexta-feira\, 19 de setembro \nExposição dos Painéis Cultura Cariri: Movimento Literário; Movimento Religioso; e Movimento Musical /5º Semestre de Pedagogia\nHorário: das 8h às 12h\nLocal: sala 10 (campus Brejo Santo) \nExposição das obras da oficina Da Porta para Fora- Fachadas do Sertão//3º Semestre de Pedagogia\nHorário: das 8h às 12h\nLocal: corredor do curso de pedagogia (campus Brejo Santo) \nExposição Painel Paulo Freire / Turma 3º semestre de Pedagogia\nHorário: das 8h às 12h\nLocal: pátio (campus Brejo Santo) \nA geração C7 Freireana/ 1º Semestre de Pedagogia\nHorário: das 8h às 12h\nLocal: campus Brejo Santo \nApresentação cultural das crianças da EEF  Historiador Padre Antônio Gomes de Araújo\nHorário: das 8h às 12h\nLocal: sala 10 (campus Brejo Santo) \n  \n  \n  \n  \n  \n  \n  \n
URL:https://www.ufca.edu.br/evento/terceiro-movimento-freireano/
LOCATION:Campi Brejo Santo e Juazeiro do Norte
CATEGORIES:Eventos
ATTACH;FMTTYPE=image/jpeg:https://www.ufca.edu.br/portal/wp-content/uploads/2025/09/WhatsApp-Image-2025-09-03-at-10.52.04.jpeg
END:VEVENT
BEGIN:VEVENT
DTSTART;TZID="America/Fortaleza":20250916T100000
DTEND;TZID="America/Fortaleza":20250916T150000
DTSTAMP:20260421T201148
CREATED:20250909T175953Z
LAST-MODIFIED:20250909T180646Z
UID:52258-1758016800-1758034800@www.ufca.edu.br
SUMMARY:Exposição Cultural Mestre Francisco Graciano
DESCRIPTION:O Instituto de Formação de Educadores da Universidade Federal do Cariri (IFE/UFCA)\, por meio do projeto Laboratório de Extensão\, Cultura e Inovação — LabKariri\, convida a comunidade acadêmica e as escolas da região do Cariri para participarem da Exposição Cultural Mestre Francisco Graciano\, também conhecido como Mestre Mozim dos Bonecos. \nA exposição será realizada no próximo dia 16 de setembro de 2025\, das 10h às 15h\, no campus Juazeiro do Norte (entre os blocos H e I). Haverá ainda\, como solenidade de abertura\, uma apresentação cultural da Escola Cívico-Militar Edward Teixeira Férrer\, de Juazeiro do Norte\, das 10h às 11h. A exposição é aberta ao público. \nO LabKariri desenvolve ações educacionais com o objetivo de fortalecer o patrimônio histórico\, cultural e natural dos municípios caririenses. Sua atuação se dá principalmente nas escolas municipais e estaduais\, locais onde promove atividades a partir da perspectiva de uma educação emancipadora e voltada à formação integral de crianças e jovens. \nO projeto integra a Rede de Extensão Intersetorial do Ceará (Rede Interset-CE) – iniciativa do Ministério da Educação (MEC)\, por meio da Secretaria de Articulação Intersetorial e com os Sistemas de Ensino\, que busca fomentar projetos extensionistas de instituições públicas de ensino superior do Ceará. \nA exposição  do mestre Francisco tem ainda o apoio da Pró-Reitoria de Extensão (Proex/UFCA)\, da Pró-Reitoria de Cultura (Procult/UFCA) e do Programa Institucional de Bolsa de Iniciação à Docência (Pibid). \n3º Movimento Freireano \nA exposição integra a programação do 3º Movimento Freireano\, evento realizado em tributo ao nascimento de Paulo Freire e organizado pelo curso de pedagogia da UFCA. O 3º movimento freireano ocorre entre 15 e 19 de setembro de 2025\, com atividades interdisciplinares tanto nos campi da UFCA quanto nas escolas de educação básica do Cariri. \n  \n  \n  \n  \n  \n  \n
URL:https://www.ufca.edu.br/evento/exposicao-cultural-mestre-francisco-graciano/
LOCATION:Campus Juazeiro do Norte
CATEGORIES:Eventos
ATTACH;FMTTYPE=image/jpeg:https://www.ufca.edu.br/portal/wp-content/uploads/2025/09/WhatsApp-Image-2025-09-09-at-11.53.55.jpeg
END:VEVENT
END:VCALENDAR