BEGIN:VCALENDAR
VERSION:2.0
PRODID:-//Universidade Federal do Cariri - ECPv4.9.5//NONSGML v1.0//EN
CALSCALE:GREGORIAN
METHOD:PUBLISH
X-WR-CALNAME:Universidade Federal do Cariri
X-ORIGINAL-URL:https://www.ufca.edu.br
X-WR-CALDESC:Eventos para Universidade Federal do Cariri
BEGIN:VTIMEZONE
TZID:"America/Fortaleza"
BEGIN:STANDARD
TZOFFSETFROM:-0300
TZOFFSETTO:-0300
TZNAME:-03
DTSTART:20250101T000000
END:STANDARD
END:VTIMEZONE
BEGIN:VEVENT
DTSTART;TZID="America/Fortaleza":20250311T183000
DTEND;TZID="America/Fortaleza":20250311T200000
DTSTAMP:20260423T161213
CREATED:20250307T142453Z
LAST-MODIFIED:20250307T142936Z
UID:49547-1741717800-1741723200@www.ufca.edu.br
SUMMARY:Pesquisa em contabilidade: o que esperar dos estudos acadêmicos?
DESCRIPTION:No dia 11 de março de 2025\, o Centro de Ciências Sociais Aplicadas da Universidade Federal do Cariri (CCSA/UFCA) e o Centro Acadêmico de Ciências Contábeis (Cacic) irão realizar\, a partir das 18h30\, a palestra “Pesquisa em Contabilidade”. \nO encontro vai ocorrer no campus Juazeiro do Norte da UFCA\, no Auditório Beata Maria de Araújo (bloco H)\, e as discussões em torno da palestra serão motivadas pela pergunta “o que esperar dos estudos acadêmicos?”. \nPara participar do evento\, não é necessário inscrição prévia. Estudantes e professores de ciências contábeis\, administração e administração pública e gestão social\, além dos demais interessados na área\, são o público-alvo da palestra. \nDanival Sousa Cavalcante é o palestrante convidado. Ele é doutor em Administração e Controladoria pela Universidade Federal do Ceará (UFC) e professor efetivo do Departamento de Contabilidade da UFC. \n
URL:https://www.ufca.edu.br/evento/pesquisa-em-contabilidade-o-que-espera-dos-estudos-academicos/
LOCATION:Auditório Beata Maria de Araújo – Campus Juazeiro do Norte da UFCA\, Av. Tenente Raimundo Rocha\, 1639\, Juazeiro do Norte\, Ceará\, 63048080\, Brasil
CATEGORIES:Eventos
ATTACH;FMTTYPE=image/jpeg:https://www.ufca.edu.br/portal/wp-content/uploads/2025/03/PALESTRA-DANIVAL01.jpeg
END:VEVENT
END:VCALENDAR