BEGIN:VCALENDAR
VERSION:2.0
PRODID:-//Universidade Federal do Cariri - ECPv4.9.5//NONSGML v1.0//EN
CALSCALE:GREGORIAN
METHOD:PUBLISH
X-WR-CALNAME:Universidade Federal do Cariri
X-ORIGINAL-URL:https://www.ufca.edu.br
X-WR-CALDESC:Eventos para Universidade Federal do Cariri
BEGIN:VTIMEZONE
TZID:"America/Fortaleza"
BEGIN:STANDARD
TZOFFSETFROM:-0300
TZOFFSETTO:-0300
TZNAME:-03
DTSTART:20250101T000000
END:STANDARD
END:VTIMEZONE
BEGIN:VEVENT
DTSTART;TZID="America/Fortaleza":20250225T200000
DTEND;TZID="America/Fortaleza":20250225T220000
DTSTAMP:20260423T161000
CREATED:20250217T190953Z
LAST-MODIFIED:20250217T190953Z
UID:49299-1740513600-1740520800@www.ufca.edu.br
SUMMARY:Museus como espaços de transformação: o caso dos museus orgânicos do Ceará
DESCRIPTION:No dia 25 de fevereiro de 2025 (próxima terça-feira)\, a partir das 20h\, o bacharelado em museologia da Universidade Federal do Cariri (UFCA) vai realizar uma roda de conversa com o tema “Museus como espaços de transformação: o caso dos museus orgânicos do Ceará”.  \nA roda de conversa será realizada no campus Juazeiro do Norte (bloco M\, térreo\, sala 04) e ocorre em parceria com o Núcleo de Estudos em Economia Criativa (NEC/UFCA). A participação no evento é gratuita. \nPara discutir a temática\, o evento vai receber a pesquisadora Andréa Rabinovici – doutora em Ambiente e Sociedade pela Universidade Estadual de Campinas (Unicamp) e docente na Universidade Federal de São Paulo (Unifesp). \nA pró-reitora de Graduação da UFCA\, Priscilla Régis\, será a mediadora da roda de conversa. \nNão é necessária inscrição prévia para participar da roda de conversa. \n
URL:https://www.ufca.edu.br/evento/museus-como-espacos-de-transformacao-o-caso-dos-museus-organicos-do-ceara/
LOCATION:Campus Juazeiro do Norte
CATEGORIES:Eventos
ATTACH;FMTTYPE=image/jpeg:https://www.ufca.edu.br/portal/wp-content/uploads/2025/02/Museus-como-espaços-de-transformação.jpg
END:VEVENT
END:VCALENDAR