BEGIN:VCALENDAR
VERSION:2.0
PRODID:-//Universidade Federal do Cariri - ECPv4.9.5//NONSGML v1.0//EN
CALSCALE:GREGORIAN
METHOD:PUBLISH
X-WR-CALNAME:Universidade Federal do Cariri
X-ORIGINAL-URL:https://www.ufca.edu.br
X-WR-CALDESC:Eventos para Universidade Federal do Cariri
BEGIN:VTIMEZONE
TZID:"America/Fortaleza"
BEGIN:STANDARD
TZOFFSETFROM:-0300
TZOFFSETTO:-0300
TZNAME:-03
DTSTART:20240101T000000
END:STANDARD
END:VTIMEZONE
BEGIN:VEVENT
DTSTART;TZID="America/Fortaleza":20241202T080000
DTEND;TZID="America/Fortaleza":20241204T110000
DTSTAMP:20260423T201958
CREATED:20241129T204911Z
LAST-MODIFIED:20241202T182453Z
UID:48458-1733126400-1733310000@www.ufca.edu.br
SUMMARY:8ª Jornada Científica do Proder | 1ª Conferência Internacional de Saúde e Desenvolvimento Sustentável da UFCA
DESCRIPTION:No período de 2 a 4 de dezembro de 2024\, será realizada a oitava Jornada Científica do Proder e a primeria Conferência Internacional de Saúde e Desenvolvimento Sustentável da UFCA. A jornada é promovida pelo corpo docente e discente do Mestrado Acadêmico do Programa de Pós-Graduação em Desenvolvimento Regional Sustentável da Universidade Federal do Cariri (Proder/UFCA)\, em parceria com os mestrados em Saúde da Família (ProfSaúde)\, em Ciências da Saúde e em Administração (UFCA). \nO evento tem por tema: “Cidade e Sociedade: Explorando a interseção entre Meio Ambiente\, Saúde e Território”. Trata-se de um momento de encontro entre universidade e comunidade\, que oportuniza a divulgação de trabalhos científicos\, a divulgação de projetos realizados pela comunidade acadêmica\, além da aprendizagem\, da troca de conhecimento e de momentos formativos – como palestras\, oficinas e minicursos e visitas técnicas. \nA programação será híbrida\, com eventos on-line e presenciais\, nos campi Juazeiro do Norte\, Barbalha e Crato.\nAcesse salas virtuais de cada evento da programação no site do Proder/UFCA \nProgramação \nDIA 2 de dezembro de 2024 (segunda-feira)\nMANHÃ\nLocal: Hall de Entrada do Auditório Beata Maria de Araújo (campus Juazeiro do Norte) \n8h30 – 9h: Inscrição\, Recepção e Credenciamento \n9h- 9h20: Abertura e Programação cultural\n9h20 – 9h40: Mesa de Abertura\nProf. Dr. Silvério de Paiva Freitas Júnior (reitor da UFCA) \n9h40 – 10h20: Palestra de Abertura\nConvidada: Profª Drª Daniele Costa da Silva (Universidade Vale do Acaraú – UVA)\nTema: A face urbana da seca e os desafios do planejamento proativo – experiências no semiárido cearense \n10h20 – 11h: Aula Show\nConvidados: Profª Drª. Paola Torres Costa (Universidade Federal do Ceará – UFC)\nTema: Do verso a ciência: Neoplasias hematológicas em cordel\n11h30: Recesso para almoço \nTARDE \nLocal: Salas diversas\n14h00 – 18h – Minicursos\n114h00 – 18h – Oficina – Práticas Integrativas Complementares\, com os professores da UniFAP: Suianne Ferreira Soares Alencar e Samuel Freire Feitosa. \nNOITE\n18h30 – 21h30 – Minicursos \nDIA 3 de dezembro de 2024 (Terça-feira) \nMANHÃ\nLocal 1: campus Juazeiro do Norte \n8h30: Acolhida\nSala virtual \n8h40 – 9h: Programação cultural: Exposição Virtual Caatinga em flores segunda edição\nProfª Drª Estelita Lima Cândido (Universidade Federal do Cariri – UFCA)\n9h – 10h: Palestra Virtual 1\, pela Sala virtual\nConvidado: Prof Dr. Cihelio Alves Amorim (WasserCluster Lunz – Biologische Station GmbH\, Austria/Middle East Technical University\, METU\, Turquia.)\nTema: Mitigação da Eutrofização e Florações Algais no Semiárido Brasileiro. \nMANHÃ\nLocal 2:  Campus Barbalha (Sala de Videoconferência)\n8h: Acolhida \n8h30: Mesa redonda: Saúde mental de profissionais de saúde e estudantes após a covid-19: Desafios para a Saúde Coletiva\nConvidadas: Profa. Dra Danielle Macêdo Gaspar (UFC)\, Profa. Dra. Kelly Rose Tavares Neves (UFC)\, Profa. Dra. Laura Hévila Inocêncio Leite (UFCA)(Mediadora)\n11h30: Recesso para almoço \nTARDE\n14h – 17h: Apresentação oral (on-line)\nLocal: Salas virtuais \nListas das apresentações serão divulgadas no site do Proder dia 30/11/2024. \n14h – 17h: Exposição de Banners\nLocal: Pátio central do campus Juazeiro do Norte \nDIA 4 de dezembro de 2024 (quarta-feira) \nMANHÃ\n8h30: Acolhida\nSala virtual:\n8h40 – 9h: Programação cultural: Exposição Virtual Caatinga em flores segunda edição\nProfª Drª Estelita Lima Cândido (Universidade Federal do Cariri – UFCA) \n9h – 10h: Palestra Magna Virtual 2\nConvidada: Profª Dra. Ivete Helena Ramos Delgado Silves Ferreira (Universidade de Santiago/INGT-Cabo Verde)\nTema: Desigualdades regionais e urbanas em contextos turísticos: o Caso do arquipélago de Cabo Verde. \n10h30: Entrega de menção honrosa\nLançamento de e-book: (autores: em construção)\n11h: Encerramento \n
URL:https://www.ufca.edu.br/evento/8a-jornada-cientifica-do-proder-1a-conferencia-internacional-de-saude-e-desenvolvimento-sustentavel-da-ufca/
LOCATION:Todos os campi da UFCA
CATEGORIES:Eventos
ATTACH;FMTTYPE=image/png:https://www.ufca.edu.br/portal/wp-content/uploads/2024/11/Jornada-Científica-Proder.png
END:VEVENT
BEGIN:VEVENT
DTSTART;TZID="America/Fortaleza":20241204T173000
DTEND;TZID="America/Fortaleza":20241204T200000
DTSTAMP:20260423T201958
CREATED:20241202T145715Z
LAST-MODIFIED:20241202T145716Z
UID:48469-1733333400-1733342400@www.ufca.edu.br
SUMMARY:Clima Jazz – Quinta Edição
DESCRIPTION:Nesta quarta-feira\, 4 de dezembro de 2024\, vai ocorrer na Universidade Federal do Cariri (UFCA) a quinta edição do “Clima Jazz”\, a partir das 17h30\, no campus Juazeiro do Norte (entre os blocos G e E). A entrada é gratuita e não é necessário inscrição prévia. \nEsta edição terá como atração principal o grupo Aya Jazz Ensemble: projeto inspirado na tradição das big bands estadunidenses e que também incorpora a sonoridade típica da música brasileira e da cultura do Cariri. O nome “Aya” remete ao símbolo africano dos Adinkras (que simboliza força\, coragem e perseverança).  \nA performance  do grupo vai destacar obras de compositores cearenses renomados\, como Luizinho Duarte\, além de celebrações de artistas nacionais como Tom Jobim\, João Donato e Toninho Horta.  \nO Aya Jazz Ensemble é formado por Gabriel Melo\, Anna Júlia\, Larissa Maximiano\, Marcos Soares\, Regilânio Ferreira e Fernando Moacir – egressos e discentes do curso de Música da UFCA. A apresentação terá a participação especial de Saul Brito. \nO projeto “Clima Jazz” tem o objetivo de estabelecer parcerias criativas em ações de sensibilização que promovam a cultura do Jazz na região do Cariri cearense\, contribuindo para a formação de público/plateia. O projeto busca ainda incentivar a vivência da música e se afirmar como mais um ponto de conexão a se inserir na corrente de evolução constante que define a trajetória desse gênero musical. \nPara outras informações\, encaminhar e-mail para comunicacao.procult@ufca.edu.br \n
URL:https://www.ufca.edu.br/evento/clima-jazz-quinta-edicao/
LOCATION:Campus Juazeiro do Norte
CATEGORIES:Eventos
ATTACH;FMTTYPE=image/jpeg:https://www.ufca.edu.br/portal/wp-content/uploads/2024/12/Snapinsta.app_468791491_18476155651055727_5944960965748774245_n_1080.jpg
END:VEVENT
END:VCALENDAR