BEGIN:VCALENDAR
VERSION:2.0
PRODID:-//Universidade Federal do Cariri - ECPv4.9.5//NONSGML v1.0//EN
CALSCALE:GREGORIAN
METHOD:PUBLISH
X-WR-CALNAME:Universidade Federal do Cariri
X-ORIGINAL-URL:https://www.ufca.edu.br
X-WR-CALDESC:Eventos para Universidade Federal do Cariri
BEGIN:VTIMEZONE
TZID:"America/Fortaleza"
BEGIN:STANDARD
TZOFFSETFROM:-0300
TZOFFSETTO:-0300
TZNAME:-03
DTSTART:20240101T000000
END:STANDARD
END:VTIMEZONE
BEGIN:VEVENT
DTSTART;VALUE=DATE:20241118
DTEND;VALUE=DATE:20241123
DTSTAMP:20260423T214927
CREATED:20241111T124805Z
LAST-MODIFIED:20241112T104018Z
UID:48281-1731888000-1732319999@www.ufca.edu.br
SUMMARY:1º Encontro Regional de Trombonistas da UFCA e 7º Encontro de Saxofonistas
DESCRIPTION:Entre os dias 18 e 22 de novembro de 2024\, a Universidade Federal do Cariri (UFCA) realiza o Primeiro Encontro Regional de Trombonistas da UFCA (EnTRe 1) e o Sétimo Encontro de Saxofonistas (ESAX7). Os eventos\, que serão simultâneos\, vão reunir músicos\, pesquisadores e demais interessados em vivenciar troca de saberes e experiências artísticas na área. \nO evento é gratuito e aberto ao público\, com certificação para inscritos que registrarem presença em 75% das atividades pedagógicas e que estejam na apresentação final de práticas de conjunto. As inscrições estão disponíveis no site do evento\, onde também está publicada a programação completa\, com datas\, horários e locais das atividades e dos concertos musicais.\n \nDentre os nomes confirmados na programação estão os dos renomados trombonistas Eduardo Machado e Jorginho Neto. Eduardo é primeiro trombone da Orquestra Sinfônica Brasileira e também da Orquestra Sinfônica Municipal de São Paulo. Por sua vez\, Jorginho Neto é integrante da Jazz Sinfônica\, a Nelson Ayres Big Band. \nSomam-se a esses o saxofonista Leonardo Pellegrim\, pesquisador e professor da Universidade Federal de Pernambuco (UFPE)\, e o grupo holandês/português Maat Saxophone Quartet. \n  \n
URL:https://www.ufca.edu.br/evento/1o-encontro-regional-de-trombonistas-da-ufca-e-7o-encontro-de-saxofonistas/
LOCATION:Barbalha\, Crato e Juazeiro do Norte
CATEGORIES:Eventos
ATTACH;FMTTYPE=image/jpeg:https://www.ufca.edu.br/portal/wp-content/uploads/2024/11/Apresentação-ET-Esax2.jpg
END:VEVENT
END:VCALENDAR