BEGIN:VCALENDAR
VERSION:2.0
PRODID:-//Universidade Federal do Cariri - ECPv4.9.5//NONSGML v1.0//EN
CALSCALE:GREGORIAN
METHOD:PUBLISH
X-WR-CALNAME:Universidade Federal do Cariri
X-ORIGINAL-URL:https://www.ufca.edu.br
X-WR-CALDESC:Eventos para Universidade Federal do Cariri
BEGIN:VTIMEZONE
TZID:"America/Fortaleza"
BEGIN:STANDARD
TZOFFSETFROM:-0300
TZOFFSETTO:-0300
TZNAME:-03
DTSTART:20240101T000000
END:STANDARD
END:VTIMEZONE
BEGIN:VEVENT
DTSTART;TZID="America/Fortaleza":20241108T180000
DTEND;TZID="America/Fortaleza":20241108T213000
DTSTAMP:20260423T214751
CREATED:20241104T121953Z
LAST-MODIFIED:20241106T172734Z
UID:48144-1731088800-1731101400@www.ufca.edu.br
SUMMARY:Ética\, Controle Social e Transparência: olhares sobre o mecanismo das emendas parlamentares
DESCRIPTION:Nesta sexta-feira\, 8 de novembro de 2024\, a partir das 18h30\, será realizado no campus Juazeiro do Norte da Universidade Federal do Cariri (UFCA)\, no Auditório Beata Maria de Araújo\, o Seminário “Ética\, Controle Social e Transparência: olhares sobre o mecanismo das emendas parlamentares”.  \nO evento se insere na agenda de atividades da oficina temática “Ética\, Controle Social e Transparência” e tem como objetivo fomentar a discussão sobre o mecanismo das Emendas Parlamentares\, desde as emendas individuais – sejam elas com finalidade definida ou especiais –\, passando pelas emendas de bancadas\, as de comissão e as de relator. \nNeste sentido\, é interessante refletir sobre os impactos do mecanismo das emendas parlamentares ao orçamento na transparência das contas públicas\, na efetivação do acesso das populações locais a bens e serviços públicos e na própria democracia. \nAlém da mesa que debaterá o tema principal do Seminário\, a programação contará também com a apresentação de um mapeamento das emendas parlamentares federais cearenses e com o lançamento de um podcast\, ambos produzidos por estudantes da referida oficina temática que integra a agenda do curso de Administração Pública e Gestão Social da UFCA. \nA mesa principal do Seminário terá a participação do deputado estadual Renato Roseno e do secretário de Cultura e ex-vereador do Crato Amadeu de Freitas. A discussão será mediada por Joelmir Pinho\, professor da disciplina/oficina temática. A programação terá\, ainda\, a apresentação musical do poeta\, cantor\, compositor e multi-instrumentista Vinícius Pinho – egresso do curso de Música da UFCA. \nA organização do evento foi realizada por discentes do quinto período letivo de Administração Pública e Gestão Social\, que está vinculado ao Centro de Ciências Sociais Aplicadas (CCSA/UFCA). \nPROGRAMAÇÃO \n18h30 – Acolhida musical \n19h – Mesa de Abertura \n19h15 – Apresentação dos trabalhos das equipes de mapeamento de emendas parlamentares federais cearenses e produção do podcast sobre o tema \n19h45 – Mesa sobre o tema central do Seminário\, seguida de roda de conversa  \n21h30 – Encerramento \n
URL:https://www.ufca.edu.br/evento/etica-controle-social-e-transparencia-olhares-sobre-o-mecanismo-das-emendas-parlamentares/
LOCATION:Auditório Beata Maria de Araújo\, Brasil
CATEGORIES:Eventos
ATTACH;FMTTYPE=image/png:https://www.ufca.edu.br/portal/wp-content/uploads/2024/11/1-1.png
END:VEVENT
END:VCALENDAR