BEGIN:VCALENDAR
VERSION:2.0
PRODID:-//Universidade Federal do Cariri - ECPv4.9.5//NONSGML v1.0//EN
CALSCALE:GREGORIAN
METHOD:PUBLISH
X-WR-CALNAME:Universidade Federal do Cariri
X-ORIGINAL-URL:https://www.ufca.edu.br
X-WR-CALDESC:Eventos para Universidade Federal do Cariri
BEGIN:VTIMEZONE
TZID:"America/Fortaleza"
BEGIN:STANDARD
TZOFFSETFROM:-0300
TZOFFSETTO:-0300
TZNAME:-03
DTSTART:20240101T000000
END:STANDARD
END:VTIMEZONE
BEGIN:VEVENT
DTSTART;TZID="America/Fortaleza":20241007T090000
DTEND;TZID="America/Fortaleza":20241008T180000
DTSTAMP:20260423T232305
CREATED:20240909T183923Z
LAST-MODIFIED:20240909T183924Z
UID:47513-1728291600-1728410400@www.ufca.edu.br
SUMMARY:I Encontro Regional de Matemática
DESCRIPTION:Com o tema “Inclusão e Diversidade na Matemática”\, o Primeiro Encontro Regional de Matemática (ERM) será realizado nos dias 7 e 8 de outubro de 2024\, nos campi Juazeiro do Norte e Brejo Santo da UFCA. \nO evento pretende reunir a comunidade acadêmica da UFCA e profissionais interessados na área da Matemática.  \nAs inscrições podem ser feitas na plataforma Even3 e estarão abertas até o dia 1º de outubro deste ano. Podem se inscrever estudantes de graduação ou de pós-graduação\, professores da UFCA e também a comunidade externa à Universidade. \nDurante os dois dias do Encontro\, serão realizadas palestras\, oficinas\, mesas-redondas e minicursos. O cronograma completo do evento pode ser acessado na página de inscrições. \n
URL:https://www.ufca.edu.br/evento/i-encontro-regional-de-matematica/
LOCATION:Campus Brejo Santo\, R. Olegário Emidio de Araujo\, s/n - Centro\, Brejo Santo - CE\, Brejo Santo\, Ceará\, 63260-000\, Brasil
CATEGORIES:Eventos
ATTACH;FMTTYPE=image/png:https://www.ufca.edu.br/portal/wp-content/uploads/2024/09/Banner-I-ERM.png
END:VEVENT
END:VCALENDAR