BEGIN:VCALENDAR
VERSION:2.0
PRODID:-//Universidade Federal do Cariri - ECPv4.9.5//NONSGML v1.0//EN
CALSCALE:GREGORIAN
METHOD:PUBLISH
X-WR-CALNAME:Universidade Federal do Cariri
X-ORIGINAL-URL:https://www.ufca.edu.br
X-WR-CALDESC:Eventos para Universidade Federal do Cariri
BEGIN:VTIMEZONE
TZID:"America/Fortaleza"
BEGIN:STANDARD
TZOFFSETFROM:-0300
TZOFFSETTO:-0300
TZNAME:-03
DTSTART:20240101T000000
END:STANDARD
END:VTIMEZONE
BEGIN:VEVENT
DTSTART;TZID="America/Fortaleza":20240912T080000
DTEND;TZID="America/Fortaleza":20240914T170000
DTSTAMP:20260424T005902
CREATED:20240904T184526Z
LAST-MODIFIED:20240906T113627Z
UID:47450-1726128000-1726333200@www.ufca.edu.br
SUMMARY:1º Seminário de Produção Animal do Cariri – Território e Sustentabilidade
DESCRIPTION:Entre os dias 12 e 14 de setembro de 2024\, a Universidade Federal do Cariri (UFCA)\, por meio do Centro de Ciências Agrárias e da Biodiversidade (CCAB/UFCA) e da Pró-Reitoria de Extensão (Proex/UFCA)\, irá realizar o 1º Seminário de Produção Animal do Cariri\, com o tema “Território e Sustentabilidade”. \nO evento é gratuito e aberto para estudantes\, produtores rurais e profissionais da área. Interessados podem se inscrever\, até 10 de setembro de 2024\, por meio da plataforma digital Even3. A programação completa do seminário também está disponível na plataforma de inscrição. \nO evento será realizado no campus Juazeiro do Norte\, no Auditório Beata Maria de Araújo e no pátio central. Os minicursos serão realizados no campus Crato do IFCE. Haverá durante todo o evento\, a participação de intérpretes de Libras e infraestrutura física adaptada para Pessoas com Deficiência (PcD). \nDe acordo com os organizadores\, o Seminário busca divulgar informações e tecnologias direcionadas à produção animal para toda a cadeia produtiva da região do Cariri cearense\, bem como construir uma agenda de ações conjuntas\, em uma proposta dialógica\, e com foco na sustentabilidade econômica\, ambiental e social. \nO Seminário será composto por palestras\, minicursos e uma mesa-redonda para o debate sobre o tema do evento\, correlacionando práticas sustentáveis e democratizando o acesso ao conhecimento tecnocientífico. O evento também discutirá a construção participativa da agenda da produção animal para os próximos anos e do fomento à construção da rede da Cadeia Produtiva da Pecuária do Cariri. \nO evento ocorre em parceria com o Serviço de Apoio às Micro e Pequenas Empresas do Estado do Ceará (Sebrae)\, com a Fundação de Apoio a Serviços Técnicos\, Ensino e Fomento a Pesquisas (Fundação Astef) e com o Instituto Federal de Educação\, Ciência e Tecnologia do Ceará (IFCE). \nOutras informações podem ser obtidas por meio do endereço eletrônico seminarioproducaoanimalufca@gmail.com.  \n
URL:https://www.ufca.edu.br/evento/1o-seminario-de-producao-animal-do-cariri-territorio-e-sustentabilidade/
LOCATION:Auditório Beata Maria de Araújo – Campus Juazeiro do Norte da UFCA\, Av. Tenente Raimundo Rocha\, 1639\, Juazeiro do Norte\, Ceará\, 63048080\, Brasil
CATEGORIES:Eventos
ATTACH;FMTTYPE=image/png:https://www.ufca.edu.br/portal/wp-content/uploads/2024/09/Primeiro-Seminário-de-Produção-Animal-do-Cariri.png
END:VEVENT
BEGIN:VEVENT
DTSTART;TZID="America/Fortaleza":20240913T080000
DTEND;TZID="America/Fortaleza":20240913T160000
DTSTAMP:20260424T005902
CREATED:20240905T144429Z
LAST-MODIFIED:20240905T144533Z
UID:47464-1726214400-1726243200@www.ufca.edu.br
SUMMARY:Terceira Oficina Educativa Ambiental 2024
DESCRIPTION:A Pró-Reitoria de Planejamento e Orçamento (Proplan/UFCA)\, por meio da Coordenadoria de Gestão da Sustentabilidade\, vai realizar no dia 13 de setembro de 2024\, das 8h às 16h\, a 3ª edição do Projeto Oficina Educativa Ambiental. Essa edição comemora os 18 anos da criação do Geopark Araripe. O projeto ocorre em parceria com o Geopark Araripe Mundial da Unesco e com a Universidade Regional do Cariri (Urca). \nA programação desta edição comemorativa será realizada nos municípios de Crato (visita à sede do Geopark)\, Santana do Cariri (visita ao Museu de Paleontologia Plácido Cidade e Geossítio Pontal da Santa Cruz) e Nova Olinda (Geossítio Ponte de Pedra\, Fundação Casa Grande\, Memorial do Homem Kariri e Museu do Ciclo do Couro – Espedito Seleiro). \nAs inscrições ocorrerão entre os dias 4 e 6 de setembro de 2024 – ou enquanto durarem as 20 vagas disponíveis. Para participar é preciso preencher o formulário eletrônico\, que contém o Termo de Responsabilidade. Após o encerramento das vagas será enviado aos inscritos um e-mail com orientações sobre o evento e para que confirmem sua participação e assim efetivar a inscrição. \nNo dia do evento\, cada participante deve doar 2 latas de alumínio (ex.: refrigerante\, leite\, enlatados em geral). As doações serão encaminhadas para as Associações de Recicladores que possuem Acordo de Cooperação Técnica com a UFCA. \nA UFCA disponibilizará ônibus para conduzir os participantes e intérpretes de Libras para tradução.  \nOs pontos e horários de embarque:  \nUFCA – Campus de Juazeiro do Norte\nHorário: às 7h15 \nUrca – Campus Crajubar\nHorário: às 7h30 \nSede do Geopark Araripe (Crato)\nHorário: às 7h45 \nO percurso da trilha é de nível médio/difícil. Os participantes devem ir com calçados e vestimentas apropriados para o momento. \nA participação é permitida somente para pessoas a partir de 18 anos e gera certificação para os participantes que comparecerem e preencherem a avaliação do evento. \nDevido ao horário de retorno e tempo de deslocamento\, foi acrescentada a opção de almoço no município de Santana do Cariri. O local definido para o almoço é o Restaurante Bom Sabor\, localizado no Museu de Paleontologia. O valor do almoço é de R$ 17\,00 (com duas opções de carne). É importante destacar que a participação no almoço não é obrigatória\, sendo uma escolha pessoal de cada participante. \nDúvidas e/ou informações podem ser encaminhadas para o endereço oficinaeducativaambiental.proex@ufca.edu.br. \nInteressados também podem acompanhar o Projeto Oficina Educativa Ambiental no Instagram. \n
URL:https://www.ufca.edu.br/evento/terceira-oficina-educativa-ambiental-2024/
LOCATION:Juazeiro do Norte-CE\, Juazeiro do Norte\, Ceará
CATEGORIES:Eventos
ATTACH;FMTTYPE=image/jpeg:https://www.ufca.edu.br/portal/wp-content/uploads/2024/09/WhatsApp-Image-2024-09-05-at-11.25.14.jpeg
END:VEVENT
BEGIN:VEVENT
DTSTART;TZID="America/Fortaleza":20240913T143000
DTEND;TZID="America/Fortaleza":20240913T180000
DTSTAMP:20260424T005902
CREATED:20240802T191419Z
LAST-MODIFIED:20240822T163811Z
UID:47000-1726237800-1726250400@www.ufca.edu.br
SUMMARY:Oitavo Fórum de Qualidade de Vida do Estudante
DESCRIPTION:A Pró-Reitoria de Assuntos Estudantis (Prae/UFCA)\, por meio da Divisão de Atenção à Qualidade de Vida do Estudante\, convida a comunidade acadêmica da UFCA para participação no Oitavo Fórum de Qualidade de Vida do Estudante. O evento será realizado nos dias 7\, 14 e 21 de agosto de 2014\, nos campi Barbalha\, Crato e Juazeiro do Norte.  \nDurante o evento\, a Prae/UFCA realizará três palestras para discussão de técnicas de suporte básico à vida\, além de discutir temas que promovam a qualidade de vida no âmbito da Universidade. \nInteressados/as podem se inscrever por meio de formulário eletrônico até o dia da respectiva palestra ou oficina\, conforme datas abaixo.  \nCampus Crato \nQuarta-feira\, 7 de agosto \nOficina: Primeiros Socorros – pratique e aprenda\nHorário: às 14h\nLocal: Sala de eventos do CCAB/UFCA\nConvidados: Programa Caririense de Emergência e Trauma (PCET) \nCampus Barbalha \nQuarta-feira\, 14 de agosto \nVivência: Arteterapia e natureza – nutrindo a energia vital\nHorário: às 13h\nLocal: Sala de videoconferência\nConvidada: Iêda Lacerda Alencar (psicóloga e arterapeuta) \nCampus Juazeiro do Norte \nQuarta-feira\, 21 de agosto \nPalestra: Era sono que me faltava – como melhorar minha produtividade a partir de hoje a noite\nLocal: Auditório Bárbara de Alencar (bloco E\, piso inferior\, E21)\nHorário: às 17h\nConvidado: José Péricles M. Vasconcelos Filho\, médico do sono e psiquiatra.  \nCampus Brejo Santo \nSexta-feira\, 13 de setembro \nPalestra: Qualidade do sono é Qualidade de vida\nHorário: às 14h30\nLocal: pátio do campus \nConvidado: Crístenes Sanches L. Gomes (médico psiquiatra – Prae/UFCA) \n
URL:https://www.ufca.edu.br/evento/oitavo-forum-de-qualidade-de-vida-do-estudante-2/
LOCATION:Campus Brejo Santo\, R. Olegário Emidio de Araujo\, s/n - Centro\, Brejo Santo - CE\, Brejo Santo\, Ceará\, 63260-000\, Brasil
CATEGORIES:Eventos
ATTACH;FMTTYPE=image/jpeg:https://www.ufca.edu.br/portal/wp-content/uploads/2024/08/WhatsApp-Image-2024-08-02-at-14.37.08.jpeg
END:VEVENT
END:VCALENDAR