BEGIN:VCALENDAR
VERSION:2.0
PRODID:-//Universidade Federal do Cariri - ECPv4.9.5//NONSGML v1.0//EN
CALSCALE:GREGORIAN
METHOD:PUBLISH
X-WR-CALNAME:Universidade Federal do Cariri
X-ORIGINAL-URL:https://www.ufca.edu.br
X-WR-CALDESC:Eventos para Universidade Federal do Cariri
BEGIN:VTIMEZONE
TZID:"America/Fortaleza"
BEGIN:STANDARD
TZOFFSETFROM:-0300
TZOFFSETTO:-0300
TZNAME:-03
DTSTART:20240101T000000
END:STANDARD
END:VTIMEZONE
BEGIN:VEVENT
DTSTART;TZID="America/Fortaleza":20240901T173000
DTEND;TZID="America/Fortaleza":20240904T173000
DTSTAMP:20260424T005157
CREATED:20240829T182123Z
LAST-MODIFIED:20240829T182123Z
UID:47393-1725211800-1725471000@www.ufca.edu.br
SUMMARY:IX Encontro de Educação Musical do Cariri e VII Encontro Internacional sobre Pedagogia do Piano
DESCRIPTION:Entre os dias 1º e 4 de setembro de 2024\, a Universidade Federal do Cariri (UFCA) sediará dois eventos: o Encontro de Educação Musical do Cariri (IX Educamus) e o Encontro Internacional sobre Pedagogia do Piano (VII EINPP). Os eventos terão suas atividades presenciais realizadas no campus Juazeiro do Norte da UFCA. \nO Educamus é um evento voltado à educação musical e terá a Educação Musical\, Inclusão e Pedagogia do Piano como tema deste ano. As inscrições podem ser feitas por meio de formulário on-line. \nJá o EINPP será realizado de forma híbrida\, com palestras\, oficinas\, festival infantojuvenil\, recitais e divulgações de pesquisas nas áreas da educação musical e da pedagogia do piano. A inscrição para o EINPP pode ser realizada por meio da plataforma Even3. \nA programação de ambos os eventos podem ser acessados por meio de documento disponível na página do Educamus. \n
URL:https://www.ufca.edu.br/evento/ix-encontro-de-educacao-musical-do-cariri-e-vii-encontro-internacional-sobre-pedagogia-do-piano/
LOCATION:UFCA – Campus Juazeiro do Norte\, Av. Tenente Raimundo Rocha\, Nº 1639\, Juazeiro do Norte\, Ceará\, 63048-080\, Brasil
CATEGORIES:Eventos
ATTACH;FMTTYPE=image/jpeg:https://www.ufca.edu.br/portal/wp-content/uploads/2024/08/WhatsApp-Image-2024-08-29-at-15.11.35.jpeg
END:VEVENT
BEGIN:VEVENT
DTSTART;TZID="America/Fortaleza":20240904T140000
DTEND;TZID="America/Fortaleza":20240905T190000
DTSTAMP:20260424T005157
CREATED:20240829T125602Z
LAST-MODIFIED:20240829T173444Z
UID:47381-1725458400-1725562800@www.ufca.edu.br
SUMMARY:Terceiro Setembro Surdo: empoderamento surdo
DESCRIPTION:Nos dias 4 e 5 de setembro de 2024\, o curso de licenciatura em Letras-Libras da Universidade Federal do Cariri (UFCA) vai realizar o terceiro Setembro Surdo\, com o tema “Empoderamento Surdo”. O evento ocorre de modo presencial (no campus Juazeiro do Norte)\, é gratuito\, aberto para todos os públicos e os participantes receberão certificação de horas. Interessados podem se inscrever por meio de formulário eletrônico.  \nDe acordo com a programação\, descrita abaixo\, serão realizados 5 minicursos – com 40 vagas cada um.  \nProgramação \nQuarta-feira\, 4 de setembro \nDas 14h às 17h \nMinicurso 1: Educação sexual em Libras\, com o professor Rômulo de Lima Sousa;\nMinicurso 2: A LDB em Questões de Educação Bilíngue\, com o professor Igor Aquino;\nMinicurso 3: Identidade\, Cultura e Comunidade Surda capacidade lutar movimento Líderes\, com a professora Germana Maria de Araújo Lima Rodrigues. \nÀs 18h30 \nPalestra de Abertura: O Poder da Maçã\, com a professora Clarissa Luna Borges Fonseca Guerretta\nLocal: Auditório Beata Maria de Araújo (bloco H) \nQuinta-feira\, 5 de setembro \nDas 14h às 17h \nMinicurso 4: A (in) visibilidade das mulheres surdas: protagonismo na sociedade contemporânea\, com a professora Clarissa Luna Borges Fonseca Guerretta;\nMinicurso 5: Fisioterapia Pélvica e Uroginecologia – com as fisioterapeutas Damiana Pereira de Sousa\, Hortência Karoeny Ferreira Brandão\, Ana Júlia Lopes Marcolino e Letícia Maria Mendes Felicio. \nÀs 18h30 \nPalestra de encerramento: A importância da Educação Bilíngue associada deficiência para surdos: experiências e desafios\, com a professora Germana Maria de Araújo Lima Rodrigues.\nLocal: Auditório Beata Maria de Araújo (bloco H) \n
URL:https://www.ufca.edu.br/evento/terceiro-setembro-surdo-empoderamento-surdo/
LOCATION:Campus Juazeiro do Norte\, Ceará
CATEGORIES:Eventos
ATTACH;FMTTYPE=image/jpeg:https://www.ufca.edu.br/portal/wp-content/uploads/2024/08/III-SETEMBRO-SURDO1.jpeg
END:VEVENT
END:VCALENDAR