BEGIN:VCALENDAR
VERSION:2.0
PRODID:-//Universidade Federal do Cariri - ECPv4.9.5//NONSGML v1.0//EN
CALSCALE:GREGORIAN
METHOD:PUBLISH
X-WR-CALNAME:Universidade Federal do Cariri
X-ORIGINAL-URL:https://www.ufca.edu.br
X-WR-CALDESC:Eventos para Universidade Federal do Cariri
BEGIN:VTIMEZONE
TZID:"America/Fortaleza"
BEGIN:STANDARD
TZOFFSETFROM:-0300
TZOFFSETTO:-0300
TZNAME:-03
DTSTART:20240101T000000
END:STANDARD
END:VTIMEZONE
BEGIN:VEVENT
DTSTART;TZID="America/Fortaleza":20240830T080000
DTEND;TZID="America/Fortaleza":20240830T160000
DTSTAMP:20260424T020938
CREATED:20240814T184804Z
LAST-MODIFIED:20250423T203154Z
UID:47144-1725004800-1725033600@www.ufca.edu.br
SUMMARY:Doação de Sangue
DESCRIPTION:A Universidade Federal do Cariri (UFCA) vai realizar no próximo dia 30 de agosto de 2024\, no campus Juazeiro do Norte\, mais uma campanha de doação de sangue. A campanha é uma parceria da UFCA com o Centro de Hematologia e Hemoterapia do Ceará (Hemoce). \nAs doações podem ser realizadas das 8h às 16h. Para efetivar a doação\, os interessados devem apresentar documento oficial com foto\, estar saudáveis\, bem alimentados\, pesar mais de 50 kg e ter entre 16 e 69 anos. Outra indicação importante é evitar alimentação gordurosa nas quatro horas que antecedem a doação. \nOs candidatos à doação de sangue com idade entre 16 e 17 anos devem apresentar o Termo de Consentimento assinado pelo responsável legal\, disponível para download no Portal do Doador. O limite de idade para a primeira doação é de 60 (sessenta) anos\, 11 (onze) meses e 29 (vinte e nove) dias.  \n
URL:https://www.ufca.edu.br/evento/doacao-de-sangue-5/
LOCATION:Campus Juazeiro do Norte
CATEGORIES:Eventos
ATTACH;FMTTYPE=image/png:https://www.ufca.edu.br/portal/wp-content/uploads/2023/03/doação-de-sangue-destaque-e1678887984277.png
END:VEVENT
BEGIN:VEVENT
DTSTART;TZID="America/Fortaleza":20240830T080000
DTEND;TZID="America/Fortaleza":20240830T120000
DTSTAMP:20260424T020938
CREATED:20240819T124621Z
LAST-MODIFIED:20240819T124947Z
UID:47220-1725004800-1725019200@www.ufca.edu.br
SUMMARY:2ª Oficina Educativa Ambiental de 2024
DESCRIPTION:A Pró-Reitoria de Planejamento e Orçamento (Proplan/UFCA)\, por meio da Coordenadoria de Gestão da Sustentabilidade\, em parceria com o Geopark Araripe Mundial da Unesco e a Universidade Regional do Cariri (Urca)\, vai realizar no dia 30 de agosto de 2024\, das 8h às 12h\, a 2ª Edição do Projeto Oficina Educativa Ambiental deste ano\, no Geossítio Cachoeira de Missão Velha\, no município de Missão Velha-CE. \nO Projeto “Oficina Educativa Ambiental” é vinculado à Pró-Reitoria de Extensão (Proex/UFCA) e terá em sua programação uma trilha educativa com coleta de lixo e uma roda de conversa sobre os aspectos geossistêmicos do espaço. \nAs inscrições ocorrerão de 19 a 23 de agosto ou enquanto durarem as 20 vagas disponíveis. Para participar é preciso preencher o formulário de inscrição\, que contém o Termo de Responsabilidade. Após o encerramento das vagas será enviado aos inscritos um e-mail com orientações sobre o evento e para que confirmem sua participação e assim efetivar a inscrição. \nNo dia do evento o participante deve doar 2 latas de alumínio (ex.: refrigerante\, leite\, enlatados em geral). As latas de alumínio serão doadas para as Associações de Recicladores que possuem Acordo de Cooperação Técnica com a UFCA. \nA UFCA disponibilizará o ônibus para conduzir os participantes e intérpretes de Libras para tradução. Os pontos e horários de embarque serão respectivamente:  \nUFCA – Campus de Juazeiro do Norte \nHorário: às 7h15 \nUrca – Campus Crajubar\nHorário: às 7h30  \nUFCA – Campus Barbalha\nHorário: às 7h45  \nMissão Velha – Praça Francisco Arraes Maia\nHorário: às 8h10 \nO percurso da trilha é de nível fácil. Os participantes devem ir com calçados e vestimentas apropriados para o momento. \nA participação é permitida somente para pessoas a partir de 18 anos e gera certificação para os participantes que comparecerem e preencherem a avaliação do evento. \nDúvidas ou informações podem ser solicitadas pelo endereço oficinaeducativaambiental.proex@ufca.edu.br e pela página oficial do Projeto no Instagram.  \n
URL:https://www.ufca.edu.br/evento/2a-oficina-educativa-ambiental-de-2024/
LOCATION:Missão Velha-CE
CATEGORIES:Eventos
ATTACH;FMTTYPE=image/jpeg:https://www.ufca.edu.br/portal/wp-content/uploads/2024/08/WhatsApp-Image-2024-08-19-at-09.25.21.jpeg
END:VEVENT
END:VCALENDAR