BEGIN:VCALENDAR
VERSION:2.0
PRODID:-//Universidade Federal do Cariri - ECPv4.9.5//NONSGML v1.0//EN
CALSCALE:GREGORIAN
METHOD:PUBLISH
X-WR-CALNAME:Universidade Federal do Cariri
X-ORIGINAL-URL:https://www.ufca.edu.br
X-WR-CALDESC:Eventos para Universidade Federal do Cariri
BEGIN:VTIMEZONE
TZID:"America/Fortaleza"
BEGIN:STANDARD
TZOFFSETFROM:-0300
TZOFFSETTO:-0300
TZNAME:-03
DTSTART:20240101T000000
END:STANDARD
END:VTIMEZONE
BEGIN:VEVENT
DTSTART;TZID="America/Fortaleza":20240821T183000
DTEND;TZID="America/Fortaleza":20240821T200000
DTSTAMP:20260424T020939
CREATED:20240820T172551Z
LAST-MODIFIED:20240820T201718Z
UID:47250-1724265000-1724270400@www.ufca.edu.br
SUMMARY:Diagnóstico museológico e planejamento
DESCRIPTION:Nesta quarta-feira\, 21 de agosto de 2024\, haverá uma roda de conversa na Universidade Federal do Cariri (UFCA) sobre o tema “Diagnóstico museológico e planejamento”. O encontro será realizado no campus Juazeiro do Norte (bloco K\, primeiro andar\, sala 103)\, das 18h30 às 20h. \nA conversa abordará a gestão de museus sob um ponto de vista específico da Museologia\, apresentando as razões para planejar e a matriz para o diagnóstico museológico e o planejamento. A temática terá como base o livro “Gestão de museus\, um desafio contemporâneo: diagnóstico museológico e planejamento”\, de autoria da professora Manuelina Maria Duarte Cândido\, que participará do encontro na UFCA. \nManuelina é doutora em Museologia pela Universidade Lusófona – Centro Universitário Lisboa\, professora de Museologia da Universidade Federal de Goiás (UFG) e também foi docente da Universidade de Liège\, na Bélgica. \nA roda de conversa será promovida pela Pró-Reitoria de Cultura (Procult/UFCA) e pelo projeto “Economia Criativa e Epistemologias do Sul”\, vinculado ao Núcleo de Estudos em Negócios\, Estratégias e Consumo (NEC).  \nA mediação do encontro será feita pelo coordenador de artes da UFCA\, Weber dos Anjos.  \n
URL:https://www.ufca.edu.br/evento/diagnostico-museologico-e-planejamento/
LOCATION:Campus Juazeiro do Norte
CATEGORIES:Eventos
ATTACH;FMTTYPE=image/jpeg:https://www.ufca.edu.br/portal/wp-content/uploads/2024/08/WhatsApp-Image-2024-08-20-at-17.16.09.jpeg
END:VEVENT
END:VCALENDAR