BEGIN:VCALENDAR
VERSION:2.0
PRODID:-//Universidade Federal do Cariri - ECPv4.9.5//NONSGML v1.0//EN
CALSCALE:GREGORIAN
METHOD:PUBLISH
X-WR-CALNAME:Universidade Federal do Cariri
X-ORIGINAL-URL:https://www.ufca.edu.br
X-WR-CALDESC:Eventos para Universidade Federal do Cariri
BEGIN:VTIMEZONE
TZID:"America/Fortaleza"
BEGIN:STANDARD
TZOFFSETFROM:-0300
TZOFFSETTO:-0300
TZNAME:-03
DTSTART:20240101T000000
END:STANDARD
END:VTIMEZONE
BEGIN:VEVENT
DTSTART;TZID="America/Fortaleza":20240820T090000
DTEND;TZID="America/Fortaleza":20240820T120000
DTSTAMP:20260424T020938
CREATED:20240814T191444Z
LAST-MODIFIED:20240816T145301Z
UID:47148-1724144400-1724155200@www.ufca.edu.br
SUMMARY:Welcome Day UFCA 2024
DESCRIPTION:No dia 20 de agosto de 2024\, a Secretaria de Cooperação Internacional da Universidade Federal do Cariri (SCI/UFCA) vai realizar o “Welcome Day UFCA”\, a partir das 9h\, no campus Barbalha. O “Welcome Day UFCA” é organizado em parceria com outros setores da Universidade e tem como objetivo realizar o acolhimento dos estudantes estrangeiros que ingressaram recentemente na UFCA. \nDurante o evento ocorre a apresentação da SCI/UFCA\, de outros setores acadêmicos  da UFCA que estão diretamente ligados ao cotidiano dos estudantes\, além de programas e projetos desenvolvidos na Universidade. \nProgramação \n9h – Credenciamento\n9h30 – Mesa de abertura: Palavras do reitor\, da direção da Famed/UFCA e do CCT/UFCA; dos coordenadores dos cursos de Ciências da Computação\, Engenharia Civil e Medicina; e da Secretária da SCI/UFCA.\n10h – Intercâmbio internacional – Carroça de Mamulengos (Cariri) e Hodi Swing Junior (Moçambique)\n10h30 – Apresentação dos setores: Ouvidoria e Secretaria de Acessibilidade\n11h30 – Entrega da Menção Honrosa pelo destaque estudante PEC-G; foto coletiva\n12h – Coffee Break e encerramento \n \n
URL:https://www.ufca.edu.br/evento/welcome-day-ufca-2024/
LOCATION:Campus Barbalha\, R. Divino Salvador\, 284 - Alto do Rosário\,\, Barbalha -\, Ceará\, CE\, 63180-000\, Brasil
CATEGORIES:Eventos
ATTACH;FMTTYPE=image/jpeg:https://www.ufca.edu.br/portal/wp-content/uploads/2024/08/WhatsApp-Image-2024-08-14-at-16.08.08-2.jpeg
END:VEVENT
BEGIN:VEVENT
DTSTART;TZID="America/Fortaleza":20240820T133000
DTEND;TZID="America/Fortaleza":20240820T170000
DTSTAMP:20260424T020938
CREATED:20240814T191820Z
LAST-MODIFIED:20240816T144440Z
UID:47150-1724160600-1724173200@www.ufca.edu.br
SUMMARY:Quinto Fórum de Internacionalização da UFCA
DESCRIPTION:No dia 20 de agosto de 2024\, a Secretaria de Cooperação Internacional da Universidade Federal do Cariri (SCI/UFCA) realizará a quinta edição do Fórum de Internacionalização da UFCA 2024”. O evento vai ocorrer na Faculdade de Medicina (Famed/UFCA)\, no campus Barbalha\, a partir das 13h30. \nDurante o evento haverá a apresentação de um projeto de Internacionalização desenvolvido na UFCA ou em parceria com a cooperação internacional. O fórum terá ainda a apresentação de trabalhos desenvolvidos pelos estudantes estrangeiros da UFCA sobre alguns eixos temáticos\, como Políticas Públicas\, Sustentabilidade\, Educação\, Gênero e Sociedade; Arte\, Literatura\, Culturas e Línguas; ou ações de acolhimento\, hospitalidade e atenção a estudantes estrangeiros.  \nProgramação \n13h30 – Credenciamento\n14h – Mesa de abertura: Palavra da Secretária de Cooperação Internacional\n14h15 – Apresentação do projeto Mundo ao Cariri\n14h30 – Palestra: Pesquisa e Inovação – Responsáveis: Casos de Cooperação Universitária | Professora Karine Pinheiro de Souza | Área: Tecnologias Educacionais\n15h10 – Seminários: Apresentação dos estudantes estrangeiros do PEC-G na UFCA.\n16h30 – Foto Coletiva\n17h – Coffee Break e encerramento \n \n
URL:https://www.ufca.edu.br/evento/quinto-forum-de-internacionalizacao-da-ufca/
LOCATION:Campus Barbalha\, R. Divino Salvador\, 284 - Alto do Rosário\,\, Barbalha -\, Ceará\, CE\, 63180-000\, Brasil
CATEGORIES:Eventos
ATTACH;FMTTYPE=image/jpeg:https://www.ufca.edu.br/portal/wp-content/uploads/2024/08/WhatsApp-Image-2024-08-14-at-16.08.08-3.jpeg
END:VEVENT
END:VCALENDAR