BEGIN:VCALENDAR
VERSION:2.0
PRODID:-//Universidade Federal do Cariri - ECPv4.9.5//NONSGML v1.0//EN
CALSCALE:GREGORIAN
METHOD:PUBLISH
X-WR-CALNAME:Universidade Federal do Cariri
X-ORIGINAL-URL:https://www.ufca.edu.br
X-WR-CALDESC:Eventos para Universidade Federal do Cariri
BEGIN:VTIMEZONE
TZID:"America/Fortaleza"
BEGIN:STANDARD
TZOFFSETFROM:-0300
TZOFFSETTO:-0300
TZNAME:-03
DTSTART:20240101T000000
END:STANDARD
END:VTIMEZONE
BEGIN:VEVENT
DTSTART;TZID="America/Fortaleza":20240525T080000
DTEND;TZID="America/Fortaleza":20240525T110000
DTSTAMP:20260424T065330
CREATED:20240517T204145Z
LAST-MODIFIED:20240520T190102Z
UID:46251-1716624000-1716634800@www.ufca.edu.br
SUMMARY:Aulão Solidário – Edifique Ações
DESCRIPTION:No próximo sábado\, 25 de maio de 2024\, das 8h às 11h\, o Edifique Ações\, programa de Extensão da Universidade Federal do Cariri (UFCA)\, vai realizar uma aulão solidário\, com foco no Exame Nacional do Ensino Médio (Enem)\, para arrecadar doações que serão enviadas para os afetados pelas enchentes no Rio Grande do Sul.   \nPara participar do aulão\, os/as interessados/as podem se inscrever por meio de formulário eletrônico. No dia do evento\, os inscritos devem\, obrigatoriamente\, doar um item solidário – alimentos não perecíveis\, roupas\, calçados\, produtos de higiene etc. \nA aula ocorrerá no Campus São Miguel do Centro Universitário Uninassau (Rua São Francisco\, 1164\, São Miguel\, Juazeiro do Norte).  \nO aulão terá aulas de Química\, com a professora “mestre Jessy”\, CEO do cursinho “Ciência em Destaque”. Além de Química\, os participantes também terão aula de Biologia com o professor Vanylton Matias\, co-fundador do Núcleo Pré-Vestibulares. \n
URL:https://www.ufca.edu.br/evento/aulao-solidario-edificar-acoes/
LOCATION:Juazeiro do Norte-CE\, Juazeiro do Norte\, Ceará
CATEGORIES:Eventos
ATTACH;FMTTYPE=image/jpeg:https://www.ufca.edu.br/portal/wp-content/uploads/2024/05/WhatsApp-Image-2024-05-20-at-13.34.16.jpeg
END:VEVENT
END:VCALENDAR