BEGIN:VCALENDAR
VERSION:2.0
PRODID:-//Universidade Federal do Cariri - ECPv4.9.5//NONSGML v1.0//EN
CALSCALE:GREGORIAN
METHOD:PUBLISH
X-WR-CALNAME:Universidade Federal do Cariri
X-ORIGINAL-URL:https://www.ufca.edu.br
X-WR-CALDESC:Eventos para Universidade Federal do Cariri
BEGIN:VTIMEZONE
TZID:"America/Fortaleza"
BEGIN:STANDARD
TZOFFSETFROM:-0300
TZOFFSETTO:-0300
TZNAME:-03
DTSTART:20240101T000000
END:STANDARD
END:VTIMEZONE
BEGIN:VEVENT
DTSTART;TZID="America/Fortaleza":20240313T183000
DTEND;TZID="America/Fortaleza":20240313T213000
DTSTAMP:20260424T103207
CREATED:20240306T171026Z
LAST-MODIFIED:20240306T171153Z
UID:45524-1710354600-1710365400@www.ufca.edu.br
SUMMARY:Diálogo sobre Gestão 
DESCRIPTION:O Centro de Ciências Sociais Aplicadas da Universidade Federal do Cariri (CCSA/UFCA) vai realizar\, no dia 13 de março\, a partir das 18h30\, no campus Juazeiro do Norte (bloco H\, Auditório Beata Maria de Araújo)\, o evento “Diálogo sobre Gestão”.  \nO evento ocorre em parceria com o Tribunal de Contas do Estado do Ceará (TCE-CE) e as inscrições podem ser realizadas por meio do Sistema de Gestão Educacional (Siged). Haverá certificado de horas gratuito para os participantes. \nOs participantes da palestra “O papel do Tribunal de Contas do Estado do Ceará na Avaliação de Políticas Públicas” receberão certificado de horas pelo TCE-CE. A palestra faz parte das ações desenvolvidas pelo TCEduc – programa que promove ações educacionais voltadas para o aperfeiçoamento profissional. \nPROGRAMAÇÃO \nPalestra: O papel do Tribunal de Contas do Estado do Ceará na avaliação de Políticas Públicas\nHorário: das 18h30 às 20h\nPalestrantes: Ricardo Dias\, mestre em Economia pela Universidade Federal do Ceará (UFCA) e professor da Universidade Federal do Rio Grande do Norte (UFRN); e Giovanna Adjafre\, especialista em Controle Externo pela Universidade Federal do Ceará (UFC) e técnica em Controle Externo do TCE-CE. \nPalestra: Mudanças na Contabilidade aplicada ao Setor Público\nHorário: das 20h às 20h40\nPalestrante: Erivando Júnior\, doutor em Administração pela Pontifícia Universidade Católica do Paraná (PUC-PR) e professor da Universidade Federal Rural do Semi-Árido (Ufersa). \nPalestra: Análise de dados aplicados às Finanças\nHorário: das 20h50 às 21h30 \nPalestrante: Kléber Formiga\, doutor em Ciências Contábeis pela Universidade Federal da Paraíba (UFPB) e professor da Universidade Federal Rural do Semi-Árido (Ufersa).  \n  \n
URL:https://www.ufca.edu.br/evento/dialogo-sobre-gestao/
LOCATION:Campus Juazeiro do Norte
CATEGORIES:Eventos
ATTACH;FMTTYPE=image/jpeg:https://www.ufca.edu.br/portal/wp-content/uploads/2024/03/WhatsApp-Image-2024-03-05-at-14.25.46-1.jpeg
END:VEVENT
END:VCALENDAR