BEGIN:VCALENDAR
VERSION:2.0
PRODID:-//Universidade Federal do Cariri - ECPv4.9.5//NONSGML v1.0//EN
CALSCALE:GREGORIAN
METHOD:PUBLISH
X-WR-CALNAME:Universidade Federal do Cariri
X-ORIGINAL-URL:https://www.ufca.edu.br
X-WR-CALDESC:Eventos para Universidade Federal do Cariri
BEGIN:VTIMEZONE
TZID:"America/Fortaleza"
BEGIN:STANDARD
TZOFFSETFROM:-0300
TZOFFSETTO:-0300
TZNAME:-03
DTSTART:20230101T000000
END:STANDARD
END:VTIMEZONE
BEGIN:VEVENT
DTSTART;VALUE=DATE:20231207
DTEND;VALUE=DATE:20231208
DTSTAMP:20260424T150914
CREATED:20231206T144730Z
LAST-MODIFIED:20231206T144731Z
UID:44578-1701907200-1701993599@www.ufca.edu.br
SUMMARY:Encontro das Novíssimas e Super Novas Universidades: experiências\, desafios e perspectivas futuras
DESCRIPTION:O reitor da Universidade Federal do Cariri (UFCA)\, Silvério Freitas\, vai participar nesta quinta-feira\, 7 de dezembro de 2023\, de encontro entre as chamadas “novíssimas” e “super novas” universidades federais brasileiras. O encontro será na Universidade Federal do Delta do Parnaíba (UFDPar)\, na cidade de Parnaíba-PI. \nA ideia do encontro é trocar experiências e compartilhar perspectivas entre todas as instituições participantes. Criadas em 5 de junho de 2013\, a UFCA e as universidades do Sul e Sudeste do Pará (Unifesspa)\, do Sul da Bahia (UFSB) e do Oeste da Bahia (Ufob) são chamadas “novíssimas”\, considerando o conjunto de todas as instituições federais de Ensino Superior – algumas\, já centenárias. \nOutras instituições foram criadas cinco anos mais tarde\, em 2018. São elas as “super novas”: a anfitriã do evento\, UFDPar\, e as Universidades Federais de Jataí (UFJ)\, a de Catalão (UFCAT)\, de Rondonópolis (UFR)\, do Norte do Tocantins (UFNT) e do Agreste de Pernambuco (Ufape). As supernovas têm sede\, respectivamente\, nas cidades de Parnaíba-PI\, Jataí-GO\, Catalão-GO\, Rondonópolis-MT\, Araguaína-TO e Garanhuns-PE. \nAcesse o site do evento. \n
URL:https://www.ufca.edu.br/evento/encontro-das-novissimas-e-super-novas-universidades-experiencias-desafios-e-perspectivas-futuras/
CATEGORIES:Eventos
ATTACH;FMTTYPE=image/png:https://www.ufca.edu.br/portal/wp-content/uploads/2023/12/Novíssimas.png
END:VEVENT
END:VCALENDAR