BEGIN:VCALENDAR
VERSION:2.0
PRODID:-//Universidade Federal do Cariri - ECPv4.9.5//NONSGML v1.0//EN
CALSCALE:GREGORIAN
METHOD:PUBLISH
X-WR-CALNAME:Universidade Federal do Cariri
X-ORIGINAL-URL:https://www.ufca.edu.br
X-WR-CALDESC:Eventos para Universidade Federal do Cariri
BEGIN:VTIMEZONE
TZID:"America/Fortaleza"
BEGIN:STANDARD
TZOFFSETFROM:-0300
TZOFFSETTO:-0300
TZNAME:-03
DTSTART:20230101T000000
END:STANDARD
END:VTIMEZONE
BEGIN:VEVENT
DTSTART;TZID="America/Fortaleza":20231023T080000
DTEND;TZID="America/Fortaleza":20231027T170000
DTSTAMP:20260424T182351
CREATED:20231019T145355Z
LAST-MODIFIED:20231019T150205Z
UID:43988-1698048000-1698426000@www.ufca.edu.br
SUMMARY:Semana em homenagem ao dia dos/as Servidores/as Públicos/as
DESCRIPTION:A Pró-Reitoria de Gestão de Pessoas (Progep/UFCA) divulga a programação de atividades em homenagem ao dia do/a Servidor/a Público/a\, que é comemorado no dia 28 de outubro. \nDurante toda a semana\, serão ofertadas ações formativas\, palestras e ações de promoção da saúde e qualidade de vida no trabalho. Ao todo\, o evento terá cinco dias de programação. \nA abertura oficial da programação ocorrerá na próxima segunda-feira\, 23 de outubro de 2023\, a partir das 9h\, em um espaço a ser organizado em frente ao bloco K\, no campus Juazeiro do Norte. \nContará com a presença do reitor da UFCA\, professor Silvério Freitas; da vice-reitora\, professora Ledjane Sobrinho; do pró-reitor de Gestão de Pessoas\, professor Mário Pacheco; e de representantes do Sindicato dos Docentes das Universidades Federais do Estado do Ceará (Adufc) e do Sindicato dos Trabalhadores das Universidades Federais do Estado do Ceará (Sintufce). \nNa ocasião\, haverá ainda apresentação do coral da UFCA\, recital de poesia e apresentação musical de servidores/as da UFCA. \nA programação completa está disponível neste link. \nSolicitante do informe: Pró-Reitoria de Gestão de Pessoas \n
URL:https://www.ufca.edu.br/evento/progep-ufca-promove-semana-em-homenagem-ao-dia-dos-as-servidores-as-publicos-as/
LOCATION:Nos campi Crato\, Juazeiro do Norte\, Barbalha e Brejo Santo.
CATEGORIES:Eventos
ATTACH;FMTTYPE=image/jpeg:https://www.ufca.edu.br/portal/wp-content/uploads/2023/10/IMG_1471.jpg
END:VEVENT
END:VCALENDAR