BEGIN:VCALENDAR
VERSION:2.0
PRODID:-//Universidade Federal do Cariri - ECPv4.9.5//NONSGML v1.0//EN
CALSCALE:GREGORIAN
METHOD:PUBLISH
X-WR-CALNAME:Universidade Federal do Cariri
X-ORIGINAL-URL:https://www.ufca.edu.br
X-WR-CALDESC:Eventos para Universidade Federal do Cariri
BEGIN:VTIMEZONE
TZID:"America/Fortaleza"
BEGIN:STANDARD
TZOFFSETFROM:-0300
TZOFFSETTO:-0300
TZNAME:-03
DTSTART:20230101T000000
END:STANDARD
END:VTIMEZONE
BEGIN:VEVENT
DTSTART;TZID="America/Fortaleza":20231018T170000
DTEND;TZID="America/Fortaleza":20231025T170000
DTSTAMP:20260424T182327
CREATED:20231017T142807Z
LAST-MODIFIED:20231018T175723Z
UID:43961-1697648400-1698253200@www.ufca.edu.br
SUMMARY:Sétimo Fórum de Qualidade de Vida do Estudante
DESCRIPTION:A Pró-Reitoria de Assuntos Estudantis (Prae/UFCA)\, por meio da Divisão de Atenção à Qualidade de Vida do Estudante\, convida a comunidade acadêmica da Universidade Federal do Cariri (UFCA) a participar do Sétimo Fórum de Qualidade de Vida do Estudante\, que será realizado no dia 29 de setembro e também nos dias 18\, 20 e 25 de outubro deste ano. \nAs inscrições para o evento começam nesta segunda-feira\, 18 de setembro de 2023\, e podem ser realizadas por meio de formulário eletrônico. A participação no fórum é gratuita. \nO evento tem como objetivo discutir estratégias de promoção à saúde e ao bem-estar dentro do ambiente acadêmico. Nesta edição\, “Saúde Postural” será o principal tema de discussão do fórum\, buscando compartilhar conhecimento e orientações sobre postura\, pausas e adequações do ambiente de estudo para prevenção de doenças e agravos à saúde de discentes da UFCA. \nAo todo\, esta edição do fórum é composta por quatro atividades. Essas atividades serão realizadas nos campi da UFCA conforme programação abaixo. \nQuarta-feira\, 18 de outubro \nPalestra: Saúde postural do estudante\nPalestrante: Cristiane Marinho\, docente do curso de Medicina da UFCA\nLocal: campus Barbalha (sala de videoconferência)\nHorário: 17h às 19h \nSexta-feira\, 20 de outubro \nPalestra: Orientações posturais para o estudo acadêmico\nPalestrante: Ana Geórgia\, docente do curso de Fisioterapia do Centro Universitário Doutor Leão Sampaio (Unileão)\nLocal: campus Crato (sala M202)\nHorário: 14h às 16h \nQuarta-feira\, 25 de outubro \nPalestra: Impactos da saúde postural na qualidade de vida\nPalestrante: Samuel Mota\, educador físico pelo Centro Universitário Doutor Leão Sampaio (Unileão)\nLocal: campus Brejo Santo (sala 10\, miniauditório)\nHorário: 15h às 17h \nServiço \nPró-Reitoria de Assuntos Estudantis\nsaude.prae@ufca.edu.br \n
URL:https://www.ufca.edu.br/evento/setimo-forum-de-qualidade-de-vida-do-estudante/
CATEGORIES:Eventos
ATTACH;FMTTYPE=image/png:https://www.ufca.edu.br/portal/wp-content/uploads/2023/10/Banner-Site-VII-Fórum-de-Qualidade-de-Vida-do-Estudante.png
END:VEVENT
END:VCALENDAR