BEGIN:VCALENDAR
VERSION:2.0
PRODID:-//Universidade Federal do Cariri - ECPv4.9.5//NONSGML v1.0//EN
CALSCALE:GREGORIAN
METHOD:PUBLISH
X-WR-CALNAME:Universidade Federal do Cariri
X-ORIGINAL-URL:https://www.ufca.edu.br
X-WR-CALDESC:Eventos para Universidade Federal do Cariri
BEGIN:VTIMEZONE
TZID:"America/Fortaleza"
BEGIN:STANDARD
TZOFFSETFROM:-0300
TZOFFSETTO:-0300
TZNAME:-03
DTSTART:20230101T000000
END:STANDARD
END:VTIMEZONE
BEGIN:VEVENT
DTSTART;TZID="America/Fortaleza":20230823T080000
DTEND;TZID="America/Fortaleza":20230823T160000
DTSTAMP:20260424T213139
CREATED:20230814T140201Z
LAST-MODIFIED:20230815T180839Z
UID:43076-1692777600-1692806400@www.ufca.edu.br
SUMMARY:Primeiro Ciclo Formativo em Ouvidoria
DESCRIPTION:Com o tema “Cidadã participante e Ouvidoria ativa”\, a Universidade Federal do Cariri (UFCA) vai realizar\, no dia 23 de agosto de 2023\, o primeiro Ciclo Formativo em Ouvidoria. O evento ocorre presencialmente no campus Juazeiro do Norte\, das 8h às 12h\, no Auditório Beata Maria de Araújo (bloco H) e\, das 14h às 16h\, no Laboratório de Informática do Bloco A (sala A02).  \nAs inscrições estão abertas até o dia do evento e podem ser feitas por meio de formulário eletrônico. O evento é aberto ao público externo. \nDurante o Ciclo Formativo ocorrerão palestras\, mesas-redondas e oficinas\, abordando temas relacionados aos contextos das ouvidorias públicas com foco na participação efetiva dos cidadãos\, na resolução de conflitos e a na utilização da plataforma Fala.Br para registro e acompanhamento de manifestações. O evento também abordará o assédio moral e sexual vivenciado no ambiente universitário e de trabalho. \nSerão disponibilizadas três atividades ao longo do dia\, sendo elas: “A Ouvidoria como canal de participação e ferramenta para a solução de problemas”\, “Assédio moral e sexual no ambiente universitário” e uma oficina sobre como utilizar a plataforma Fala.Br para registro e acompanhamento de manifestações. \nOs palestrantes do evento serão Aretuza Sousa Tenório\, Danielly Pereira Clemente\, Débora Gomes Bezerra de Menezes\, Francisco Felipe Santos Ribeiro\, Francisco Raniere Moreira da Silva\, Polliana de Luna Nunes Barreto\, Tamyres Madeira de Brito. \n
URL:https://www.ufca.edu.br/evento/1o-ciclo-formativo-em-ouvidoria/
LOCATION:Auditório Beata Maria de Araújo\, Av. Tenente Raimundo Rocha\, 1639\, Juazeiro do Norte\, Ceará\, 63048-080\, Brasil
CATEGORIES:Eventos
ATTACH;FMTTYPE=image/jpeg:https://www.ufca.edu.br/portal/wp-content/uploads/2023/08/WhatsApp-Image-2023-08-15-at-13.41.11.jpeg
END:VEVENT
END:VCALENDAR