BEGIN:VCALENDAR
VERSION:2.0
PRODID:-//Universidade Federal do Cariri - ECPv4.9.5//NONSGML v1.0//EN
CALSCALE:GREGORIAN
METHOD:PUBLISH
X-WR-CALNAME:Universidade Federal do Cariri
X-ORIGINAL-URL:https://www.ufca.edu.br
X-WR-CALDESC:Eventos para Universidade Federal do Cariri
BEGIN:VTIMEZONE
TZID:"America/Fortaleza"
BEGIN:STANDARD
TZOFFSETFROM:-0300
TZOFFSETTO:-0300
TZNAME:-03
DTSTART:20230101T000000
END:STANDARD
END:VTIMEZONE
BEGIN:VEVENT
DTSTART;TZID="America/Fortaleza":20230815T190000
DTEND;TZID="America/Fortaleza":20230815T210000
DTSTAMP:20260424T213246
CREATED:20230809T194952Z
LAST-MODIFIED:20230809T194957Z
UID:43022-1692126000-1692133200@www.ufca.edu.br
SUMMARY:Conferências Formativas: As Políticas Públicas Indigenistas no Brasil
DESCRIPTION:O Observatório de Políticas Públicas Indigenistas\, vinculado ao Centro de Ciências Sociais Aplicadas (CCSA/UFCA)\, vai realizar no dia 15 de agosto de 2023 um debate junto a indígenas e indigenistas com o tema: “Caminhos da Política Pública Indigenista no Brasil”. \nO evento é vinculado ao Observatório de Políticas Públicas Indigenistas\, vinculado ao Centro de Ciências Sociais Aplicadas (CCSA/UFCA)\, e contará com outros quatro encontros\, realizados mensalmente. A programação\, temas e inscrições podem ser acessados via formulário. \nO primeiro dia de atividades conta com a participação de: Eduardo Vivian da Cunha\, Professor do Curso de Administração Pública e Gestão Social da Universidade Federal do Cariri (UFCA); Luciana de Medeiros\, Administradora pública\,  Mestre em Desenvolvimento Regional Sustentável e Coordenadora adjunta do Observatório de Políticas Indigenistas; e com o professor Estêvão Martins Palitot\, associado ao Departamento de Antropologia da UFPB. \nO objetivo do encontro é refletir sobre a construção das políticas públicas indigenistas no Brasil e suas mudanças paradigmáticas até o momento atual. O evento será realizado de forma híbrida\, com realização Online via Youtube e de forma presencial no mini-auditório Bárbara de Alencar\, localizado na UFCA – Campus Juazeiro do Norte. Em caso de dúvidas\, encaminhar e-mail para iteps.proex@ufca.edu.br \n  \n
URL:https://www.ufca.edu.br/evento/conferencias-formativas-as-politicas-publicas-indigenistas-no-brasil/
LOCATION:Miniauditório Bárbara de Alencar – Campus Juazeiro do Norte
CATEGORIES:Cultura,Eventos
END:VEVENT
END:VCALENDAR