BEGIN:VCALENDAR
VERSION:2.0
PRODID:-//Universidade Federal do Cariri - ECPv4.9.5//NONSGML v1.0//EN
CALSCALE:GREGORIAN
METHOD:PUBLISH
X-WR-CALNAME:Universidade Federal do Cariri
X-ORIGINAL-URL:https://www.ufca.edu.br
X-WR-CALDESC:Eventos para Universidade Federal do Cariri
BEGIN:VTIMEZONE
TZID:"America/Fortaleza"
BEGIN:STANDARD
TZOFFSETFROM:-0300
TZOFFSETTO:-0300
TZNAME:-03
DTSTART:20230101T000000
END:STANDARD
END:VTIMEZONE
BEGIN:VEVENT
DTSTART;TZID="America/Fortaleza":20230718T080000
DTEND;TZID="America/Fortaleza":20230720T170000
DTSTAMP:20260424T230503
CREATED:20230713T112816Z
LAST-MODIFIED:20230713T112817Z
UID:42695-1689667200-1689872400@www.ufca.edu.br
SUMMARY:Oficinas Temáticas - Plano Diretor de Juazeiro do Norte
DESCRIPTION:Em continuidade aos trabalhos de revisão e atualização do Plano Diretor Municipal de Juazeiro do Norte (PDM/JN)\, a equipe de Revisão do Projeto realizará as Oficinas Temáticas referentes às minutas de lei do projeto\, são elas: \n1.Minuta de Lei do Plano Diretor Municipal;\n2.Minuta de Lei do Código de Obras;\n3.Minuta de Lei do Sistema Viário;\n4.Minuta de Lei do Código de Posturas;\n5.Minuta da Lei de Uso e Ocupação do Solo. \nAs Oficinas Temáticas tem como objetivo apresentar e discutir as minutas de lei junto à população\, cujo conteúdo está disponível para coleta de opiniões através da consulta pública. As oficinas ocorrerão nos dias 18\, 19 e 20 de julho\, de modo virtual\, a partir das 18h30min. Para participar é necessário preencher o formulário. \nA equipe de revisão do projeto lembra aos interessados que\, para mais informações sobre as oficinas temáticas\, a consulta pública e demais produções relacionadas ao PDM/JN\, acesse o site oficial do projeto\, o Instagram ou solicite pelo e-mail: pdm.ccsa@ufca.edu.br. \nO projeto é coordenado pelos docentes Diego Coelho\, Raniere Moreira e Wendell Freitas (CCSA/UFCA) e conta com a participação de estudantes da UFCA\, pesquisadores do Instituto Federal de Educação\, Ciência e Tecnologia do Ceará (Campus Juazeiro do Norte) e representantes do Município de Juazeiro do Norte.\n
URL:https://www.ufca.edu.br/evento/oficinas-tematicas-plano-diretor-de-juazeiro-do-norte/
LOCATION:Google Meet\, Brasil
CATEGORIES:Eventos
ATTACH;FMTTYPE=image/jpeg:https://www.ufca.edu.br/portal/wp-content/uploads/2023/07/Oficinas-Temáticas-1.jpeg
END:VEVENT
END:VCALENDAR