BEGIN:VCALENDAR
VERSION:2.0
PRODID:-//Universidade Federal do Cariri - ECPv4.9.5//NONSGML v1.0//EN
CALSCALE:GREGORIAN
METHOD:PUBLISH
X-WR-CALNAME:Universidade Federal do Cariri
X-ORIGINAL-URL:https://www.ufca.edu.br
X-WR-CALDESC:Eventos para Universidade Federal do Cariri
BEGIN:VTIMEZONE
TZID:"America/Fortaleza"
BEGIN:STANDARD
TZOFFSETFROM:-0300
TZOFFSETTO:-0300
TZNAME:-03
DTSTART:20230101T000000
END:STANDARD
END:VTIMEZONE
BEGIN:VEVENT
DTSTART;TZID="America/Fortaleza":20230531T080000
DTEND;TZID="America/Fortaleza":20230602T170000
DTSTAMP:20260425T004006
CREATED:20230522T133713Z
LAST-MODIFIED:20230524T172929Z
UID:41994-1685520000-1685725200@www.ufca.edu.br
SUMMARY:52º Encontro do Fórum dos Pró-Reitores de Extensão das IES do Nordeste
DESCRIPTION:A Universidade Federal do Cariri (UFCA) sedia o 52º Encontro do Fórum dos Pró-Reitores de Extensão das Instituições Públicas de Ensino Superior da região Nordeste. O Forproex/NE ocorre nos dias 31 de maio\, 1º e 2 de junho\, no campus de Juazeiro do Norte. Anualmente\, o Fórum realiza dois encontros nacionais e dois encontros regionais. O evento tem o objetivo de pensar\, organizar e definir as políticas acadêmicas de extensão. \nO público-alvo do encontro são os pró-reitores e as pró-reitoras de extensão das universidades públicas da região Nordeste. Cerca de 100 foram convidados. O Fórum pauta-se pelo compromisso das universidades com a transformação social\, com a efetiva participação cidadã e com o fortalecimento da democracia. O evento é gratuito. \nNo encontro\, além das atividades regulares\, haverá uma sala pensada para que os convidados possam interagir e desenvolver articulações com instituições que apoiam a pesquisa e com representantes do Ministério da Educação (MEC). \nFeira do Empreendedor \nTambém ocorrerá a Feira do Empreendedor durante todos os dias do Encontro\, no pátio da UFCA. Estão disponibilizadas 22 vagas para artesãs e artesãos\, expositores de livros\, roupas\, produtos naturais e de comidas. \nAs inscrições para expositores podem ser feitas até o dia 22 de maio. O formulário de inscrição está acessível na biolink do perfil oficial da Proex/UFCA no Instagram. \nProgramação do evento \nA programação divide-se em apresentações artísticas\, mesa de solenidade\, mesas-redondas\, visita guiada\, passeios\, momentos de networking\, carta de encerramento e plenária final. A programação completa pode ser acessada  no site do evento. \n
URL:https://www.ufca.edu.br/evento/52o-encontro-do-forum-dos-pro-reitores-de-extensao-das-ies-do-nordeste/
LOCATION:campus Juazeiro do Norte
CATEGORIES:Eventos
ATTACH;FMTTYPE=image/jpeg:https://www.ufca.edu.br/portal/wp-content/uploads/2023/05/Forproex.jpeg
END:VEVENT
END:VCALENDAR